BEGIN:VCALENDAR
VERSION:2.0
PRODID:-//Barrie Film Festival - ECPv5.16.3.1//NONSGML v1.0//EN
CALSCALE:GREGORIAN
METHOD:PUBLISH
X-WR-CALNAME:Barrie Film Festival
X-ORIGINAL-URL:https://barriefilmfestival.ca
X-WR-CALDESC:Events for Barrie Film Festival
BEGIN:VTIMEZONE
TZID:America/Toronto
BEGIN:DAYLIGHT
TZOFFSETFROM:-0500
TZOFFSETTO:-0400
TZNAME:EDT
DTSTART:20240310T070000
END:DAYLIGHT
BEGIN:STANDARD
TZOFFSETFROM:-0400
TZOFFSETTO:-0500
TZNAME:EST
DTSTART:20241103T060000
END:STANDARD
END:VTIMEZONE
BEGIN:VEVENT
DTSTART;VALUE=DATE:20240323
DTEND;VALUE=DATE:20240325
DTSTAMP:20260425T084459
CREATED:20240228T182522Z
LAST-MODIFIED:20240324T140106Z
UID:11062-1711152000-1711324799@barriefilmfestival.ca
SUMMARY:Reel Stories - Galaxy Cinemas
DESCRIPTION:Dates: Sat\, March 23 to Sun\, March 24\, 2024\nVenue: Galaxy Cinemas\, 72 Commerce Park Dr\, Barrie\nThe Barrie Film Festival’s Reel Stories returns for its 20th edition\, and this year will be presented in the south end of Barrie at the Galaxy Cinemas. Discover extraordinary things about fascinating people and places from this thought-provoking documentary festival. \n  \nFILM LISTING\n  \n  \nFILM SCHEDULE\nSat\, Mar 23   \n1:00 PM    THE MOVIE MAN – includes Guest Q&A\n3:25 PM    THE ETERNAL MEMORY\n5:30 PM    COPA 71\n7:40 PM    IMMEDIATE FAMILY \nSun\, Mar 24 \n1:00 PM    FOUR DAUGHTERS\n4:00 PM    COPA 71\n6:30 PM    500 DAYS IN THE WILD – SOLD OUT\n9:10 PM    500 DAYS IN THE WILD\n \n  \n\n  \nTickets are $10 (HST included in price). \nScreenings are at Galaxy Cinemas located in the south end of Barrie at 72 Commerce Park Drive. Tickets are available in advance online through the “Buy Tickets” link found on the individual movie listings\, or in-person the day of screening\, subject to availability. Box office opens one hour before showtime at venue. No Ticket Packs for this festival. Tickets are not sold through Cineplex. \n  \n\n 
URL:https://barriefilmfestival.ca/now-playing/reel-stories-galaxy-cinemas/
LOCATION:Galaxy Cinemas Barrie\, 72 Commerce Park Dr\, Barrie\, ON L4N 8W8\, 72 Commerce Park Drive\, Barrie\, Ontario\, L4N 8W8\, Canada
END:VEVENT
END:VCALENDAR