BEGIN:VCALENDAR
VERSION:2.0
PRODID:-//Barrie Film Festival - ECPv5.16.3.1//NONSGML v1.0//EN
CALSCALE:GREGORIAN
METHOD:PUBLISH
X-WR-CALNAME:Barrie Film Festival
X-ORIGINAL-URL:https://barriefilmfestival.ca
X-WR-CALDESC:Events for Barrie Film Festival
BEGIN:VTIMEZONE
TZID:America/Toronto
BEGIN:DAYLIGHT
TZOFFSETFROM:-0500
TZOFFSETTO:-0400
TZNAME:EDT
DTSTART:20240310T070000
END:DAYLIGHT
BEGIN:STANDARD
TZOFFSETFROM:-0400
TZOFFSETTO:-0500
TZNAME:EST
DTSTART:20241103T060000
END:STANDARD
END:VTIMEZONE
BEGIN:VEVENT
DTSTART;TZID=America/Toronto:20240731T210000
DTEND;TZID=America/Toronto:20240731T210000
DTSTAMP:20260421T013946
CREATED:20240607T194533Z
LAST-MODIFIED:20240607T194712Z
UID:11258-1722459600-1722459600@barriefilmfestival.ca
SUMMARY:CARS - Outdoor Screening
DESCRIPTION:Lawn Chair Luminata | Outdoor screening \nCars\nWednesday\, July 31\, 2024\nMeridian Place\, Downtown Barrie\nAdmission: Free \nStarts at dusk\, weather permitting (rain date Aug 1)\n\n  \nAnimation/Adventure | G | 116 min. | 2006 | USA\n  \nDirected by John Lasseter\nCast/voice: Owen Wilson\, Paul Newman\, Bonnie Hunt\, Larry the Cable Guy\, Cheech Marin\, Tony Shalhoub \n  \nSynopsis: \nLightning McQueen (voice of Owen Wilson)\, a hotshot rookie race car driven to succeed\, discovers that life is about the journey\, not the finish line\, when he finds himself unexpectedly detoured in the sleepy Route 66 town of Radiator Springs. On route across the country to the big Piston Cup Championship in California to compete against two seasoned pros\, McQueen gets to know the town’s offbeat characters – including Doc Hudson (voice of Paul Newman)\, rusty but trusty tow truck Mater (voice of Larry the Cable Guy) and snazzy 2002 Porsche Sally (voice of Bonnie Hunt) – who help him realize that there are more important things than trophies\, fame and sponsorship. \n  \nAwards: Nominated for 2 Oscars\, 28 wins\, 34 nominations \n  \n  \n\n  \nPresented in partnership with the Downtown Barrie BIA and the Barrie Film Festival. Supported by the City of Barrie and 107.5 KOOL FM\n\n  \nPresenting Partners \n  \n \n  \n  \nSupported by \n  \n \n  \n 
URL:https://barriefilmfestival.ca/now-playing/cars-outdoor-screening/
LOCATION:Meridian Place\, 30 Simcoe Street\, Barrie\, ON\, L4M 1A7\, Canada
END:VEVENT
END:VCALENDAR