BEGIN:VCALENDAR
VERSION:2.0
PRODID:-//Barrie Film Festival - ECPv5.16.3.1//NONSGML v1.0//EN
CALSCALE:GREGORIAN
METHOD:PUBLISH
X-WR-CALNAME:Barrie Film Festival
X-ORIGINAL-URL:https://barriefilmfestival.ca
X-WR-CALDESC:Events for Barrie Film Festival
BEGIN:VTIMEZONE
TZID:America/Toronto
BEGIN:DAYLIGHT
TZOFFSETFROM:-0500
TZOFFSETTO:-0400
TZNAME:EDT
DTSTART:20240310T070000
END:DAYLIGHT
BEGIN:STANDARD
TZOFFSETFROM:-0400
TZOFFSETTO:-0500
TZNAME:EST
DTSTART:20241103T060000
END:STANDARD
END:VTIMEZONE
BEGIN:VEVENT
DTSTART;TZID=America/Toronto:20240828T202000
DTEND;TZID=America/Toronto:20240828T202000
DTSTAMP:20260420T235437
CREATED:20240607T200932Z
LAST-MODIFIED:20240607T201148Z
UID:11273-1724876400-1724876400@barriefilmfestival.ca
SUMMARY:WONKA - Outdoor Screening
DESCRIPTION:Lawn Chair Luminata | Outdoor screening \nWonka\nWednesday\, August 28\, 2024\nMeridian Place\, Downtown Barrie\nAdmission: Free \nStarts at dusk\, weather permitting (rain date Aug 29)\n\n  \n\nAdventure/Comedy | PG | 116 min. | 2023 | USA \n\nRated PG – for some intense scenes\, mild language\, thematic elements \nDirected by Paul King\nCast: Timothée Chalamet\, Hugh Grant\, Jim Carter\, Olivia Colman\, Sally Hawkins\, Rowan Atkinson\, Keegan-Michael Key\, Calah Lane\, Simon Farnaby\, Rakhee Thakrar \n  \nSynopsis: \nBased on the extraordinary character at the center of Charlie and the Chocolate Factory\, Roald Dahl’s most iconic children’s book and one of the best-selling children’s books of all time\, “Wonka” tells the wondrous story of how the world’s greatest inventor\, magician and chocolate-maker became the beloved Willy Wonka we know today. \nStarring Timothée Chalamet in the title role\, this irresistibly vivid and inventive big screen spectacle will introduce audiences to a young Willy Wonka\, chock-full of ideas and determined to change the world one delectable bite at a time—proving that the best things in life begin with a dream\, and if you’re lucky enough to meet Willy Wonka\, anything is possible. \n  \nAwards: 1 win\, 35 nominations \n  \n \n  \n\n  \nPresented in partnership with the Downtown Barrie BIA and the Barrie Film Festival. Supported by the City of Barrie and 107.5 KOOL FM\n\n  \nPresenting Partners \n  \n \n  \n  \nSupported by \n  \n \n  \n 
URL:https://barriefilmfestival.ca/now-playing/wonka-outdoor-screening/
LOCATION:Meridian Place\, 30 Simcoe Street\, Barrie\, ON\, L4M 1A7\, Canada
END:VEVENT
END:VCALENDAR