BEGIN:VCALENDAR
VERSION:2.0
PRODID:-//Barrie Film Festival - ECPv5.16.3.1//NONSGML v1.0//EN
CALSCALE:GREGORIAN
METHOD:PUBLISH
X-WR-CALNAME:Barrie Film Festival
X-ORIGINAL-URL:https://barriefilmfestival.ca
X-WR-CALDESC:Events for Barrie Film Festival
BEGIN:VTIMEZONE
TZID:America/Toronto
BEGIN:DAYLIGHT
TZOFFSETFROM:-0500
TZOFFSETTO:-0400
TZNAME:EDT
DTSTART:20240310T070000
END:DAYLIGHT
BEGIN:STANDARD
TZOFFSETFROM:-0400
TZOFFSETTO:-0500
TZNAME:EST
DTSTART:20241103T060000
END:STANDARD
END:VTIMEZONE
BEGIN:VEVENT
DTSTART;VALUE=DATE:20241002
DTEND;VALUE=DATE:20241003
DTSTAMP:20260420T223108
CREATED:20240912T163138Z
LAST-MODIFIED:20240921T005828Z
UID:11475-1727827200-1727913599@barriefilmfestival.ca
SUMMARY:The Great Escaper - Galaxy Cinemas
DESCRIPTION:THE GREAT ESCAPER\n Wednesday\, October 2\, 2024 – 4:00 pm and 7:00 pm\nGalaxy Cinemas\, 72 Commerce Park Drive\, Barrie\, ON  L4N 8W8\n  \nBUY TICKETS \n  \nBiography/Drama | 96 Min. | United Kingdom/France | PG\nLanguage: English and French\, German with English subtitles \nPG – some coarse language \nDirected by: Oliver Parker\nCast: Michael Caine\, Glenda Jackson\, Danielle Vitalis\, John Standing\, Will Fletcher\, Laura Marcus \n  \nBernard Jordan (Michael Caine) escapes from his care home to attend the 70th Anniversary of the D-Day Landings in France. \n  \n \nAwards: 1 win\, 1 nomination
URL:https://barriefilmfestival.ca/now-playing/the-great-escaper-galaxy-cinemas/
LOCATION:Galaxy Cinemas Barrie\, 72 Commerce Park Dr\, Barrie\, ON L4N 8W8\, 72 Commerce Park Drive\, Barrie\, Ontario\, L4N 8W8\, Canada
END:VEVENT
END:VCALENDAR