BEGIN:VCALENDAR
VERSION:2.0
PRODID:-//Barrie Film Festival - ECPv5.16.3.1//NONSGML v1.0//EN
CALSCALE:GREGORIAN
METHOD:PUBLISH
X-WR-CALNAME:Barrie Film Festival
X-ORIGINAL-URL:https://barriefilmfestival.ca
X-WR-CALDESC:Events for Barrie Film Festival
BEGIN:VTIMEZONE
TZID:America/Toronto
BEGIN:DAYLIGHT
TZOFFSETFROM:-0500
TZOFFSETTO:-0400
TZNAME:EDT
DTSTART:20240310T070000
END:DAYLIGHT
BEGIN:STANDARD
TZOFFSETFROM:-0400
TZOFFSETTO:-0500
TZNAME:EST
DTSTART:20241103T060000
END:STANDARD
END:VTIMEZONE
BEGIN:VEVENT
DTSTART;VALUE=DATE:20241022
DTEND;VALUE=DATE:20241028
DTSTAMP:20260420T221333
CREATED:20240912T162620Z
LAST-MODIFIED:20241029T162334Z
UID:11473-1729555200-1730073599@barriefilmfestival.ca
SUMMARY:27th Barrie Film Festival
DESCRIPTION:October 22-27\, 2024\nScreening Venue: Galaxy Cinemas\, 72 Commerce Park Drive (south end Barrie)\n\nThe 27th edition of this multi-faceted festival provides a curated selection of films from all over the world with a particular emphasis on Canadian creators and their work. \n  \nThis event has passed. Thank you to all our supporters and attendees for another great festival!\n  \n\nSpecial Events:\n \n\n \nUNUSUALLY NORMAL\nOctober 22 | 7 pm | Galaxy Cinemas\nOpening Night Presented by THETA TTS\n \n\n\n \nOPENING RECEPTION\nOctober 22 (doors open 8:30 pm)\nKenzington Bryne Drive – included with your film ticket\nOpening Night Presented by THETA TTS\n \n\n\n\nSHORT FILM SHOWCASE / FILMMAKERS PARTY\nOctober 26 | 6:30 pm\nScreening: Galaxy Cinemas\nFilmmmakers Party: The Canadian Brewhouse Rooftop\nPresented by TD \n\n\n \nDIRECTORS BRUNCH\nOctober 27 | 11 am | Liberty North \n  \n\n\n  \n\n\n\nFESTIVAL SCHEDULE:\n  \nTuesday\, October 22 \n1:00 pm – Drive Back Home \n4:00 pm – Ghostlight \n7:00 pm – Unusually Normal – includes post screening Q&A \n9:00 pm (doors 8:30 pm) – Opening Reception\, Southend Kenzington’s – included with film ticket \n  \nWednesday\, October 23 \n1:00 pm – The Outrun \n4:00 pm – Bob Trevino Likes It \n7:00 pm – Widow Clicquot \n9:10 pm – The 9 Lives of Barbara Dane \n  \nThursday\, October 24 \n1:00 pm – All Stirred Up! (Tous Toqués!) \n4:00 pm – Coup! \n7:00 pm – The Outrun \n9:35 pm – Kneecap \n  \nFriday\, October 25 \n1:00 pm – The 9 Lives of Barbara Dane \n4:00 pm – Widow Clicquot \n7:00 pm – Bob Trevino Likes It \n9:20 pm – Coup! \n  \nSaturday\, October 26 \n1:00 pm – Flow \n3:30 pm – Drive Back Home \n6:30 pm – Short Film Showcase \nFollowing shorts is the Filmmakers Party/Awards\, The Canadian Brewhouse (included with your shorts ticket) \n9:00 pm – Ghostlight \n  \nSunday\, October 27 \n11:00 am – Director’s Brunch with Nina Keogh\, Liberty North \n1:40 pm –  Samia \n4:00 pm – So Surreal: Behind the Masks \n6:30 pm – All Stirred Up! (Tous Toqués!) \n9:00 pm – Kneecap \n  \n  \nFilm Tickets: $10\n \nShorts Showcase Tickets: $10 \nOpening Night Party tickets: Free admission with a ticket \nDirectors’ Brunch tickets: $40 \n  \nScreenings are at Galaxy Cinemas located in the south end of Barrie at 72 Commerce Park Drive. Advance tickets are available online through the “Buy Tickets” links on the individual event pages. Screenings are General Admission and not reserved seating. Box office opens one hour before showtime. Tickets are not sold through Cineplex. \n  \n  \n\n  \n \n\n  \n \n  \n\n \n  \n\n \n\n \n\n \n\n \n\n  \nThank you to the following Friends of the Festival:\nTracey Baker; Brian & Diane Fitzgerald; and Marshall & Susan Green\n 
URL:https://barriefilmfestival.ca/now-playing/27th-barrie-film-festival/
LOCATION:Galaxy Cinemas Barrie\, 72 Commerce Park Dr\, Barrie\, ON L4N 8W8\, 72 Commerce Park Drive\, Barrie\, Ontario\, L4N 8W8\, Canada
END:VEVENT
END:VCALENDAR