BEGIN:VCALENDAR
VERSION:2.0
PRODID:-//Barrie Film Festival - ECPv5.16.3.1//NONSGML v1.0//EN
CALSCALE:GREGORIAN
METHOD:PUBLISH
X-WR-CALNAME:Barrie Film Festival
X-ORIGINAL-URL:https://barriefilmfestival.ca
X-WR-CALDESC:Events for Barrie Film Festival
BEGIN:VTIMEZONE
TZID:America/Toronto
BEGIN:DAYLIGHT
TZOFFSETFROM:-0500
TZOFFSETTO:-0400
TZNAME:EDT
DTSTART:20240310T070000
END:DAYLIGHT
BEGIN:STANDARD
TZOFFSETFROM:-0400
TZOFFSETTO:-0500
TZNAME:EST
DTSTART:20241103T060000
END:STANDARD
END:VTIMEZONE
BEGIN:VEVENT
DTSTART;VALUE=DATE:20241106
DTEND;VALUE=DATE:20241107
DTSTAMP:20260420T204311
CREATED:20241029T213518Z
LAST-MODIFIED:20241029T213635Z
UID:11656-1730851200-1730937599@barriefilmfestival.ca
SUMMARY:THELMA - Galaxy Cinemas
DESCRIPTION:Wednesday\, November 6\, 2024 – 4:00 pm and 7:00 pm\nGalaxy Cinemas\, 72 Commerce Park Drive\, Barrie\, ON  L4N 8W8 \nTickets: $10 | General Admission \nAction/Comedy | 97 Min. | USA | PG\nPG – some coarse language \nDirected by: Josh Margolin\nCast: June Squibb\, Richard Roundtree\, Fred Hechinger \n  \nBUY TICKETS\n  \n“June Squibb is a total delight.” – Christy Lemire\, FilmWeek \n  \n“On top of the delightful performances by its entire cast and those winking action sequences\, Thelma is genuinely one of the funniest films I’ve seen in a while.” – Max Weiss\, BALTIMORE MAGAZINE \n  \nWhen 93-year-old Thelma Post gets duped by a phone scammer pretending to be her grandson\, she sets out on a treacherous quest across the city to reclaim what was taken from her. \n  \n \n  \nAwards: 5 wins\, 2 nominations \nWinner – American Independents Competition\, Cleveland International Film Festival\, 2024\nWinner – Audience Award\, Best Narrative Feature\, Provincetown International Film Festival\, 2024\nWinner – Jury Prize\, Narrative Feature Film Competition\, Sarasota Film Festival\, 2024\nWinner – Audience Award\, Best Narrative Feature\, Calgary Underground Film Festival\, 2024\nWinner – Best Action Movie\, Desertscape International Film Festival\, 2024 \n  \n\n  \nTickets are $10 (HST included). A one dollar service fees apply to online sales. \nScreenings are at Galaxy Cinemas located in the south end of Barrie at 72 Commerce Park Drive. Advance tickets are available online through the “Buy Tickets” links on the individual event page. Screenings are General Admission and not reserved seating. Box office opens one hour before showtime. Tickets are not sold through Cineplex.
URL:https://barriefilmfestival.ca/now-playing/thelma-galaxy-cinemas/
LOCATION:Galaxy Cinemas Barrie\, 72 Commerce Park Dr\, Barrie\, ON L4N 8W8\, 72 Commerce Park Drive\, Barrie\, Ontario\, L4N 8W8\, Canada
END:VEVENT
END:VCALENDAR