BEGIN:VCALENDAR
VERSION:2.0
PRODID:-//Barrie Film Festival - ECPv5.16.3.1//NONSGML v1.0//EN
CALSCALE:GREGORIAN
METHOD:PUBLISH
X-WR-CALNAME:Barrie Film Festival
X-ORIGINAL-URL:https://barriefilmfestival.ca
X-WR-CALDESC:Events for Barrie Film Festival
BEGIN:VTIMEZONE
TZID:America/Toronto
BEGIN:DAYLIGHT
TZOFFSETFROM:-0500
TZOFFSETTO:-0400
TZNAME:EDT
DTSTART:20240310T070000
END:DAYLIGHT
BEGIN:STANDARD
TZOFFSETFROM:-0400
TZOFFSETTO:-0500
TZNAME:EST
DTSTART:20241103T060000
END:STANDARD
END:VTIMEZONE
BEGIN:VEVENT
DTSTART;VALUE=DATE:20241204
DTEND;VALUE=DATE:20241205
DTSTAMP:20260420T185521
CREATED:20241105T173537Z
LAST-MODIFIED:20241202T162016Z
UID:11662-1733270400-1733356799@barriefilmfestival.ca
SUMMARY:THE COUNT OF MONTE CRISTO - Galaxy Cinemas
DESCRIPTION:Wednesday\, December 4\, 2024\n3:00 pm (note earlier start time due to length of film);\nand 7:00 pm\nGalaxy Cinemas\, 72 Commerce Park Drive\, Barrie\, ON  L4N 8W8 \nTickets: $10 | General Admission \nSwashbuckler/Adventure | 178 Min. | France/Belgium | Not Rated \nDirected by: Matthieu Delaporte and Alexandre de La Patellière\nCast: Pierre Niney\, Laurent Lafitte\, Anaïs Demoustier\, Bastien Bouillon\, Anamaria Vartolomei \n  \nBUY TICKETS\n  \n“A stunning\, emotionally satisfying adventure tale\, built on rock-solid source material. Compared to earlier adaptations\, this latest version is briskly paced and rousingly acted by an all-around stellar ensemble.” – Peter Debruge\, Variety \n  \nAfter escaping from an island prison where he spent 14 years for being wrongly accused of state treason\, Edmond Dantès returns as the Count of Monte Cristo to exact revenge on the men who betrayed him. \n  \n \n  \nAWARDS: \nWINNER – Audience Award\, Cinéfest Sudbury International Film Festival\, 2024\nWINNER – Golden Swan for Best Film\, Cabourg Film Festival\, 2024\nWINNER – Best Film\, Fantasia Film Festival\, 2024\nWINNER – Audience Award Silver\, Best International Feature\, Fantasia Film Festival\, 2024\nWINNER – Audience Award\, Narrative Feature\, Philadelphia Film Festival\, 2024 \n\n  \nTickets are $10 (HST included). Service fees apply to online sales. \nScreenings are at Galaxy Cinemas located in the south end of Barrie at 72 Commerce Park Drive. Advance tickets are available online through the “Buy Tickets” links on the individual event page. Screenings are General Admission and not reserved seating. Box office opens 30 minutes before showtime for the 3:00 pm screening\, and 1 hour before the 7:00pm screening. Tickets are not sold through Cineplex.
URL:https://barriefilmfestival.ca/now-playing/the-count-of-monte-cristo-galaxy-cinemas/
LOCATION:Galaxy Cinemas Barrie\, 72 Commerce Park Dr\, Barrie\, ON L4N 8W8\, 72 Commerce Park Drive\, Barrie\, Ontario\, L4N 8W8\, Canada
END:VEVENT
END:VCALENDAR