BEGIN:VCALENDAR
VERSION:2.0
PRODID:-//Barrie Film Festival - ECPv5.16.3.1//NONSGML v1.0//EN
CALSCALE:GREGORIAN
METHOD:PUBLISH
X-WR-CALNAME:Barrie Film Festival
X-ORIGINAL-URL:https://barriefilmfestival.ca
X-WR-CALDESC:Events for Barrie Film Festival
BEGIN:VTIMEZONE
TZID:America/Toronto
BEGIN:DAYLIGHT
TZOFFSETFROM:-0500
TZOFFSETTO:-0400
TZNAME:EDT
DTSTART:20250309T070000
END:DAYLIGHT
BEGIN:STANDARD
TZOFFSETFROM:-0400
TZOFFSETTO:-0500
TZNAME:EST
DTSTART:20251102T060000
END:STANDARD
END:VTIMEZONE
BEGIN:VEVENT
DTSTART;VALUE=DATE:20250305
DTEND;VALUE=DATE:20250306
DTSTAMP:20260422T060513
CREATED:20250222T153322Z
LAST-MODIFIED:20250222T154322Z
UID:11743-1741132800-1741219199@barriefilmfestival.ca
SUMMARY:SHEPHERDS (Bergers) - Galaxy Cinemas
DESCRIPTION:Wed\, March 5\, 2025 – 4 pm and 7 pm\nGalaxy Cinemas\, 72 Commerce Park Drive\, Barrie\, ON  L4N 8W8\n\nTickets: $10 | General Admission \nDrama | 113 Min. | Canada / France | Not Rated \nLanguage: French with English subtitles \nNot rated: simulated animal violence\, sexual content\, nudity\, coarse language \nDirected by: Sophie Deraspe\nCast: Félix-Antoine Duval\, Solène Rigot\, Younes Boucif\, Bruno Raffaelli\, Véronique Ruggia\, Michel Benizri\, Guilaine Londez\, and David Ayala. \n  \nBUY TICKETS\n  \n“This is a touching\, soul-stirring film that rejuvenates a viewer like a crisp flick of fresh air.” – Pat Mullen\, THAT SHELF \n  \nA Montréal copywriter sets out to reinvent himself as a sheep herder in the French Alps despite knowing literally nothing about the centuries-old craft\, in this adaptation from director and co-writer Sophie Deraspe. \n  \n \n  \nAWARDS:\n \nWinner – TFCA Award\, Outstanding Performance in a Canadian Film (Félix-Antoine Duval)\, Toronto Film Critics Association Awards\, 2024\nWinner – Best Canadian Feature Film\, Toronto International Film Festival\, 2024\nNominated – Best International Feature\, International Narrative Competition\, Calgary International Film Festival\, 2024\nNominated – Golden Peacock\, Best Film\, International Film Festival of India\, 2024 \n\n  \nTickets are $10 (HST included). Service fees apply to online sales. \nScreenings are at Galaxy Cinemas located in the south end of Barrie at 72 Commerce Park Drive. Advance tickets are available online through the “Buy Tickets” links on the individual event page. Screenings are General Admission and not reserved seating. Box office opens 1 hour before showtime. Tickets are not sold through Cineplex.
URL:https://barriefilmfestival.ca/now-playing/shepherds-bergers-galaxy-cinemas/
LOCATION:Galaxy Cinemas Barrie\, 72 Commerce Park Dr\, Barrie\, ON L4N 8W8\, 72 Commerce Park Drive\, Barrie\, Ontario\, L4N 8W8\, Canada
END:VEVENT
END:VCALENDAR