BEGIN:VCALENDAR
VERSION:2.0
PRODID:-//Barrie Film Festival - ECPv5.16.3.1//NONSGML v1.0//EN
CALSCALE:GREGORIAN
METHOD:PUBLISH
X-WR-CALNAME:Barrie Film Festival
X-ORIGINAL-URL:https://barriefilmfestival.ca
X-WR-CALDESC:Events for Barrie Film Festival
BEGIN:VTIMEZONE
TZID:America/Toronto
BEGIN:DAYLIGHT
TZOFFSETFROM:-0500
TZOFFSETTO:-0400
TZNAME:EDT
DTSTART:20250309T070000
END:DAYLIGHT
BEGIN:STANDARD
TZOFFSETFROM:-0400
TZOFFSETTO:-0500
TZNAME:EST
DTSTART:20251102T060000
END:STANDARD
END:VTIMEZONE
BEGIN:VEVENT
DTSTART;TZID=America/Toronto:20250723T210000
DTEND;TZID=America/Toronto:20250723T210000
DTSTAMP:20260421T032659
CREATED:20250620T153746Z
LAST-MODIFIED:20250722T140059Z
UID:11954-1753304400-1753304400@barriefilmfestival.ca
SUMMARY:MOANA - Outdoor Screening
DESCRIPTION:Lawn Chair Luminata | Outdoor screening \nMoana\n\nWednesday\, July 23\, 2025\nMeridian Place\, Downtown Barrie\nAdmission: Free \n\nStarts at dusk\, weather permitting (rain date July 24)\n\n\n  \nFamily/Adventure | G | 107 min. | 2016 \nRated G – suggested for ages 6+ \n  \nDirected by John Musker\, Ron Clements\nVoice cast: Auli’i Cravalho\, Dwayne Johnson \n  \nSynopsis: \nIn ancient Polynesia\, when a terrible curse incurred by the demigod Maui reaches Moana’s island\, she answers the Ocean’s call to seek out Maui to set things right. \n\nAwards: 22 wins\, 90 nominations including 2 Oscar nominations \n  \n \n  \n\n  \nPresented in partnership with the Downtown Barrie BIA and the Barrie Film Festival. Supported by the City of Barrie and 107.5 KOOL FM\n\n  \nPresenting Partners \n  \n \n  \n  \nSupported by \n  \n                 \n  \n 
URL:https://barriefilmfestival.ca/now-playing/moana-outdoor-screening/
LOCATION:Meridian Place\, 30 Simcoe Street\, Barrie\, ON\, L4M 1A7\, Canada
END:VEVENT
END:VCALENDAR