BEGIN:VCALENDAR
VERSION:2.0
PRODID:-//Barrie Film Festival - ECPv5.16.3.1//NONSGML v1.0//EN
CALSCALE:GREGORIAN
METHOD:PUBLISH
X-WR-CALNAME:Barrie Film Festival
X-ORIGINAL-URL:https://barriefilmfestival.ca
X-WR-CALDESC:Events for Barrie Film Festival
BEGIN:VTIMEZONE
TZID:America/Toronto
BEGIN:DAYLIGHT
TZOFFSETFROM:-0500
TZOFFSETTO:-0400
TZNAME:EDT
DTSTART:20250309T070000
END:DAYLIGHT
BEGIN:STANDARD
TZOFFSETFROM:-0400
TZOFFSETTO:-0500
TZNAME:EST
DTSTART:20251102T060000
END:STANDARD
END:VTIMEZONE
BEGIN:VEVENT
DTSTART;TZID=America/Toronto:20250730T210000
DTEND;TZID=America/Toronto:20250730T210000
DTSTAMP:20260421T032847
CREATED:20250620T154442Z
LAST-MODIFIED:20250722T140132Z
UID:11956-1753909200-1753909200@barriefilmfestival.ca
SUMMARY:FREE SOLO - Outdoor Screening
DESCRIPTION:Lawn Chair Luminata | Outdoor screening \nFree Solo\n\nWednesday\, July 30\, 2025\nMeridian Place\, Downtown Barrie\nAdmission: Free \n\nStarts at dusk\, weather permitting (rain date July 31)\n\n\n  \nDocumentary/Adventure Sport | PG | 100 min. | 2018 \nRated PG – for brief strong language\, ages 11+ suggested \n  \nDirected by: Elizabeth Chai Vasarhelyi and Jimmy Chin\nWith: Alex Honnold\, Jimmy Chin\, Tommy Caldwell\, Sanni McCandless \n  \nSynopsis: \nFrom award-winning documentary filmmaker E. Chai Vasarhelyi (“MERU”) and world-renowned photographer and mountaineer Jimmy Chin comes National Geographic Documentary Film’s FREE SOLO\, a stunning\, intimate and unflinching portrait of the free soloist climber Alex Honnold\, as he prepares to achieve his lifelong dream: climbing the face of the world’s most famous rock…the 3\,000 ft El Capitan in Yosemite National Park…without a rope. \n\nAwards: 31 wins including the 2019 Oscar for Best Documentary Feature \n  \n \n  \n\n  \nPresented in partnership with the Downtown Barrie BIA and the Barrie Film Festival. Supported by the City of Barrie and 107.5 KOOL FM\n\n  \nPresenting Partners \n  \n \n  \n  \nSupported by \n  \n                 \n  \n 
URL:https://barriefilmfestival.ca/now-playing/free-solo-outdoor-screening/
LOCATION:Meridian Place\, 30 Simcoe Street\, Barrie\, ON\, L4M 1A7\, Canada
END:VEVENT
END:VCALENDAR