BEGIN:VCALENDAR
VERSION:2.0
PRODID:-//Barrie Film Festival - ECPv5.16.3.1//NONSGML v1.0//EN
CALSCALE:GREGORIAN
METHOD:PUBLISH
X-WR-CALNAME:Barrie Film Festival
X-ORIGINAL-URL:https://barriefilmfestival.ca
X-WR-CALDESC:Events for Barrie Film Festival
BEGIN:VTIMEZONE
TZID:America/Toronto
BEGIN:DAYLIGHT
TZOFFSETFROM:-0500
TZOFFSETTO:-0400
TZNAME:EDT
DTSTART:20250309T070000
END:DAYLIGHT
BEGIN:STANDARD
TZOFFSETFROM:-0400
TZOFFSETTO:-0500
TZNAME:EST
DTSTART:20251102T060000
END:STANDARD
END:VTIMEZONE
BEGIN:VEVENT
DTSTART;VALUE=DATE:20251018
DTEND;VALUE=DATE:20251027
DTSTAMP:20260425T072240
CREATED:20250924T180755Z
LAST-MODIFIED:20251031T144949Z
UID:12189-1760745600-1761523199@barriefilmfestival.ca
SUMMARY:28th Barrie Film Festival
DESCRIPTION:October 18-26\, 2025\nScreening Venue: Galaxy Cinemas\, 72 Commerce Park Drive (south end Barrie)\n\nThe 28th edition of this multi-faceted festival provides a curated selection of films from all over the world with a particular emphasis on Canadian creators and their work. \n  \nThis event has passed. Thank you to all our supporters and attendees for another great festival!\n  \n \n\n\n  \n \n\n \n\n \n\n \n\n \n\n \n\n \n\n  \nThank you to the following Friends of the Festival:\nMarshall & Susan Green\n  \n 
URL:https://barriefilmfestival.ca/now-playing/28th-barrie-film-festival/
LOCATION:Galaxy Cinemas Barrie\, 72 Commerce Park Dr\, Barrie\, ON L4N 8W8\, 72 Commerce Park Drive\, Barrie\, Ontario\, L4N 8W8\, Canada
END:VEVENT
END:VCALENDAR