BEGIN:VCALENDAR
VERSION:2.0
PRODID:-//Barrie Film Festival - ECPv5.16.3.1//NONSGML v1.0//EN
CALSCALE:GREGORIAN
METHOD:PUBLISH
X-WR-CALNAME:Barrie Film Festival
X-ORIGINAL-URL:https://barriefilmfestival.ca
X-WR-CALDESC:Events for Barrie Film Festival
BEGIN:VTIMEZONE
TZID:America/Toronto
BEGIN:DAYLIGHT
TZOFFSETFROM:-0500
TZOFFSETTO:-0400
TZNAME:EDT
DTSTART:20150308T070000
END:DAYLIGHT
BEGIN:STANDARD
TZOFFSETFROM:-0400
TZOFFSETTO:-0500
TZNAME:EST
DTSTART:20151101T060000
END:STANDARD
END:VTIMEZONE
BEGIN:VEVENT
DTSTART;TZID=America/Toronto:20151022T193000
DTEND;TZID=America/Toronto:20151022T211000
DTSTAMP:20260420T093851
CREATED:20151016T024854Z
LAST-MODIFIED:20151016T024854Z
UID:1106-1445542200-1445548200@barriefilmfestival.ca
SUMMARY:’71 - 7:30PM
DESCRIPTION:’71\nScreening:\nThursday\, October 22\, 7:30 pm\,\nUptown Theatre\, Screen 4 \nDirected by Yann Demange \nUK / 2014 / Action/Drama/Thriller / Rated 14A for coarse language\, strong graphic violence\, disturbing images\, crude content\, not suggested for young or sensitive viewers / 99 min. \nA young British soldier (Jack O’Connell) is accidentally abandoned by his unit following a riot on the streets of Belfast in 1971. Unable to tell friend from foe\, and increasingly wary of his own comrades\, the raw recruit must survive the night alone and find his way to safety through an unfamiliar and deadly landscape. \nWatch the trailer here!
URL:https://barriefilmfestival.ca/now-playing/71-730pm/
LOCATION:Uptown Theatre\, 55 Dunlop St. W.\, Barrie\, Ontario\, L4N 1A3\, Canada
END:VEVENT
END:VCALENDAR