BEGIN:VCALENDAR
VERSION:2.0
PRODID:-//Barrie Film Festival - ECPv5.16.3.1//NONSGML v1.0//EN
CALSCALE:GREGORIAN
METHOD:PUBLISH
X-WR-CALNAME:Barrie Film Festival
X-ORIGINAL-URL:https://barriefilmfestival.ca
X-WR-CALDESC:Events for Barrie Film Festival
BEGIN:VTIMEZONE
TZID:America/Toronto
BEGIN:DAYLIGHT
TZOFFSETFROM:-0500
TZOFFSETTO:-0400
TZNAME:EDT
DTSTART:20150308T070000
END:DAYLIGHT
BEGIN:STANDARD
TZOFFSETFROM:-0400
TZOFFSETTO:-0500
TZNAME:EST
DTSTART:20151101T060000
END:STANDARD
END:VTIMEZONE
BEGIN:VEVENT
DTSTART;TZID=America/Toronto:20151022T190000
DTEND;TZID=America/Toronto:20151022T205500
DTSTAMP:20260420T040425
CREATED:20151012T221219Z
LAST-MODIFIED:20151016T023417Z
UID:1033-1445540400-1445547300@barriefilmfestival.ca
SUMMARY:99 HOMES - 7PM
DESCRIPTION:99 Homes \nScreening: \nThursday\, October 22\, 7:00 pm \nUptown Theatre\, Screen 1 \n  \nCo-written and Directed by Ramin Bahrani \nUSA / 2014 / Drama / Rated 14A for coarse language including some sexual references\, and a brief violent image / 112 min. \nIn this timely thriller\, single father Dennis Nash (Andrew Garfield) is evicted from his home and his only chance to win it back is to go to work for Rick Carver (Michael Shannon)\, the charismatic and ruthless businessman who evicted him in the first place. This deal with the devil provides security for his family but as Nash falls deeper into Carver’s web\, he finds his situation growing increasingly more brutal and dangerous than he had ever imagined. \n 
URL:https://barriefilmfestival.ca/now-playing/99-homes-7pm/
LOCATION:Uptown Theatre\, 55 Dunlop St. W.\, Barrie\, Ontario\, L4N 1A3\, Canada
END:VEVENT
END:VCALENDAR