BEGIN:VCALENDAR
VERSION:2.0
PRODID:-//Barrie Film Festival - ECPv5.16.3.1//NONSGML v1.0//EN
CALSCALE:GREGORIAN
METHOD:PUBLISH
X-WR-CALNAME:Barrie Film Festival
X-ORIGINAL-URL:https://barriefilmfestival.ca
X-WR-CALDESC:Events for Barrie Film Festival
BEGIN:VTIMEZONE
TZID:America/Toronto
BEGIN:DAYLIGHT
TZOFFSETFROM:-0500
TZOFFSETTO:-0400
TZNAME:EDT
DTSTART:20150308T070000
END:DAYLIGHT
BEGIN:STANDARD
TZOFFSETFROM:-0400
TZOFFSETTO:-0500
TZNAME:EST
DTSTART:20151101T060000
END:STANDARD
END:VTIMEZONE
BEGIN:VEVENT
DTSTART;TZID=America/Toronto:20151020T210000
DTEND;TZID=America/Toronto:20151020T224000
DTSTAMP:20260422T224404
CREATED:20151016T022024Z
LAST-MODIFIED:20151016T023332Z
UID:1099-1445374800-1445380800@barriefilmfestival.ca
SUMMARY:A PIGEON SAT ON A BRANCH... - 9PM
DESCRIPTION:A Pigeon Sat on a Branch\nReflecting on Existence\nScreening:\nTuesday\, October 20\, 9:00 pm\nUptown Theatre\, Screen 1 \nWritten and Directed by Roy Andersson \nSweden/Germany/Norway/France / 2014 / Comedy/Drama / Rated PG for brief sexuality and some disturbing images / Swedish with English subtitles / 100 min. \nMaster Swedish director Roy Andersson takes up the theme of “being a human being” with this meticulously crafted\, dreamlike black comedy. Featuring Sam and Jonathan\, a pair of hapless novelty salesmen\, we are taken on a kaleidoscopic tour of the human condition which unfolds in absurdist episodes: a sing-along at a 1940s beer hall\, a randy flamenco teacher\, a thirsty King Charles XII of Sweden en route to battle\, and a diabolical metaphor for the horrors inflicted by European colonialism. Ultimately\, it is a journey that unveils the beauty of single moments\, the pettiness of others\, life’s grandeur\, and the humour and tragedy hidden within us all. \nWatch the trailer here!
URL:https://barriefilmfestival.ca/now-playing/a-pigeon-sat-on-a-branch-9pm-2/
LOCATION:Uptown Theatre\, 55 Dunlop St. W.\, Barrie\, Ontario\, L4N 1A3\, Canada
END:VEVENT
END:VCALENDAR