BEGIN:VCALENDAR
VERSION:2.0
PRODID:-//Barrie Film Festival - ECPv5.16.3.1//NONSGML v1.0//EN
CALSCALE:GREGORIAN
METHOD:PUBLISH
X-WR-CALNAME:Barrie Film Festival
X-ORIGINAL-URL:https://barriefilmfestival.ca
X-WR-CALDESC:Events for Barrie Film Festival
BEGIN:VTIMEZONE
TZID:America/Toronto
BEGIN:DAYLIGHT
TZOFFSETFROM:-0500
TZOFFSETTO:-0400
TZNAME:EDT
DTSTART:20170312T070000
END:DAYLIGHT
BEGIN:STANDARD
TZOFFSETFROM:-0400
TZOFFSETTO:-0500
TZNAME:EST
DTSTART:20171105T060000
END:STANDARD
END:VTIMEZONE
BEGIN:VEVENT
DTSTART;TZID=America/Toronto:20170817T160000
DTEND;TZID=America/Toronto:20170817T160000
DTSTAMP:20260421T035227
CREATED:20170812T173812Z
LAST-MODIFIED:20170812T174120Z
UID:3213-1502985600-1502985600@barriefilmfestival.ca
SUMMARY:Alone in Berlin - 4PM
DESCRIPTION:Alone in Berlin\n\nScreening: Thursday\, August 17\, 2017 – 4:00 pm\nUptown Theatre\, 55 Dunlop St. W.\, Barrie\nCo-written and Directed by: Vincent Perez\nCast: Brendan Gleeson\, Emma Thompson and Daniel Brühl\nDrama\, 14A for mature themes\, violence\, not recommended for children\, 103 minutes\, Language: English (UK/Germany/France) \n  \n[btnsx id=”3204″] \n  \n“Gleeson shines here as a man of few words who channels his anger into action.”\n– Jim Schembri\, 3AW \n\n“It’s that juxtaposition – of the hellish against the ordinary – which gives the film its punch.”\n– Sandra Hall\, Sydney Morning Herald \n  \n“When Alone in Berlin reaches the end of its journey\, it’s the performances of Gleeson and Thompson that ensure we’ll never forget the bravery of Otto and Anna.” — Richard Roeper\, Chicago Sun-Times  \n  \nAdapted from Hans Fallada’s 1947 novel Every Man Dies Alone and nominated for a Golden Bear\, Alone in Berlin follows a couple as they mount a small yet surprisingly effective resistance against the Nazi dictatorship in wartime Berlin. After losing their son on the front line during the Battle of France in 1940\, working-class couple Otto (Brendan Gleeson) and Anna (Emma Thompson) find themselves disillusioned with the Nazi regime and frustrated with the war effort. Feeling angry and betrayed by the Führer’s empty promises and the substantial toll of the war\, the couple decides to avenge their lost son by spreading doubt and discontent across the German capital. Their postcards\, distributed in high-traffic public places across the city\, transmit anti-Hitler slogans to their fellow citizens. Their small acts of defiance rattle loudly enough that young police inspector Escherich (Daniel Brühl) mounts a citywide hunt for the postcard-propaganda perpetrators. Gleeson and Thompson have a genuinely moving chemistry with each other\, honouring the bravery of the real-life couple on which the story is based. Alone in Berlin offers a peek into the life of Berliners under Nazi rule and serves as a testament to the importance of resistance\, big or small\, against a totalitarian regime. \n  \n  \n\n  \nProgram is Sponsored by:
URL:https://barriefilmfestival.ca/now-playing/alone-in-berlin-4pm/
LOCATION:Uptown Theatre\, 55 Dunlop St. W.\, Barrie\, Ontario\, L4N 1A3\, Canada
END:VEVENT
END:VCALENDAR