BEGIN:VCALENDAR
VERSION:2.0
PRODID:-//Barrie Film Festival - ECPv5.16.3.1//NONSGML v1.0//EN
CALSCALE:GREGORIAN
METHOD:PUBLISH
X-WR-CALNAME:Barrie Film Festival
X-ORIGINAL-URL:https://barriefilmfestival.ca
X-WR-CALDESC:Events for Barrie Film Festival
BEGIN:VTIMEZONE
TZID:America/Toronto
BEGIN:DAYLIGHT
TZOFFSETFROM:-0500
TZOFFSETTO:-0400
TZNAME:EDT
DTSTART:20150308T070000
END:DAYLIGHT
BEGIN:STANDARD
TZOFFSETFROM:-0400
TZOFFSETTO:-0500
TZNAME:EST
DTSTART:20151101T060000
END:STANDARD
END:VTIMEZONE
BEGIN:VEVENT
DTSTART;TZID=America/Toronto:20151017T210000
DTEND;TZID=America/Toronto:20151017T210000
DTSTAMP:20260420T040007
CREATED:20151016T040112Z
LAST-MODIFIED:20151016T040411Z
UID:1116-1445115600-1445115600@barriefilmfestival.ca
SUMMARY:AWARDS/FILMMAKERS PARTY - 9PM
DESCRIPTION:Awards Presentation / Filmmakers Party\nSaturday\, October 17\, 9:00 pm\nRoxy Side Room\, 50 Dunlop Street West\, Barrie\nAdmission: Free \nRight after the Short Film Showcase\, please join us across the street at the Roxy Side Room for the Awards presentations and some celebrating! A yummy selection of hors d’oeuvres will be catered by a variety of local restaurants. Admission to the party is free. Cash bar. \nFilmmakers Party Sponsored by: \n \nCatered by: \n        
URL:https://barriefilmfestival.ca/now-playing/awardsfilmmakers-party-9pm/
LOCATION:Roxy Side Room\, 50 Dunlop Street West\, Barrie\, Ontario\, Canada
END:VEVENT
END:VCALENDAR