BEGIN:VCALENDAR
VERSION:2.0
PRODID:-//Barrie Film Festival - ECPv5.16.3.1//NONSGML v1.0//EN
CALSCALE:GREGORIAN
METHOD:PUBLISH
X-WR-CALNAME:Barrie Film Festival
X-ORIGINAL-URL:https://barriefilmfestival.ca
X-WR-CALDESC:Events for Barrie Film Festival
BEGIN:VTIMEZONE
TZID:America/Toronto
BEGIN:DAYLIGHT
TZOFFSETFROM:-0500
TZOFFSETTO:-0400
TZNAME:EDT
DTSTART:20150308T070000
END:DAYLIGHT
BEGIN:STANDARD
TZOFFSETFROM:-0400
TZOFFSETTO:-0500
TZNAME:EST
DTSTART:20151101T060000
END:STANDARD
END:VTIMEZONE
BEGIN:VEVENT
DTSTART;TZID=America/Toronto:20150925T190000
DTEND;TZID=America/Toronto:20150925T190000
DTSTAMP:20260420T164904
CREATED:20150822T141918Z
LAST-MODIFIED:20150918T140542Z
UID:777-1443207600-1443207600@barriefilmfestival.ca
SUMMARY:Banksy Does New York - 7PM
DESCRIPTION:Advance tickets are available two weeks before screening at the Uptown Theatre box office (in the evenings an hour before their first screening)\, the MacLaren Art Centre (during gallery hours)\, or at the door on the night of screening (subject to availability). HST is included in the ticket price. \n\nFor Carnegie Days Festival: \n \nBanksy Does New York\n \nScreening: Friday\, September 25\, 2015 – 7:00 pm\nLocation: Uptown Theatre\, 55 Dunlop Street West\, Barrie\nTickets: $10\nDirector: Chris Moukarbel\nDocumentary\, PG\, 80 minutes (USA) \n  \nOn Oct. 1\, 2013\, the elusive British street artist known as Banksy launched a self-proclaimed month-long residency in New York City\, posting one unique exhibit a day in an unannounced location\, sparking a 31-day scavenger hunt both online and on the streets for Banksy’s work. \nCapturing this month of madness\, BANKSY DOES NEW YORK incorporates user-generated content\, from YouTube videos to Instagram photos\, from New Yorkers and Banksy hunters alike\, whose responses became part of the work itself\, for an exhilarating\, detailed account of the uproar created by the mysterious artist. \nWith installations spanning all five boroughs of New York City\, and including a mix of stencil graffiti\, sculpture\, video and performance art\, Banksy touched on such wide-ranging subjects as fast-food wages\, animal cruelty in the meat industry\, civilian casualties in Iraq and the hypocrisy of the modern art world. Daily News reporter Beth Stebner\, who covered Banksy’s residency\, was struck by the wide array of people drawn to his work\, noting\, “You had art students\, you had plumbers\, you had gallery owners. It just brought New Yorkers out.” \n  \nPresented in partnership with the MacLaren Art Centre. \n  \n\n 
URL:https://barriefilmfestival.ca/now-playing/banksy-does-new-york-7pm/
LOCATION:Uptown Theatre\, 55 Dunlop St. W.\, Barrie\, Ontario\, L4N 1A3\, Canada
END:VEVENT
END:VCALENDAR