BEGIN:VCALENDAR
VERSION:2.0
PRODID:-//Barrie Film Festival - ECPv5.16.3.1//NONSGML v1.0//EN
CALSCALE:GREGORIAN
METHOD:PUBLISH
X-WR-CALNAME:Barrie Film Festival
X-ORIGINAL-URL:https://barriefilmfestival.ca
X-WR-CALDESC:Events for Barrie Film Festival
BEGIN:VTIMEZONE
TZID:America/Toronto
BEGIN:DAYLIGHT
TZOFFSETFROM:-0500
TZOFFSETTO:-0400
TZNAME:EDT
DTSTART:20170312T070000
END:DAYLIGHT
BEGIN:STANDARD
TZOFFSETFROM:-0400
TZOFFSETTO:-0500
TZNAME:EST
DTSTART:20171105T060000
END:STANDARD
END:VTIMEZONE
BEGIN:VEVENT
DTSTART;TZID=America/Toronto:20170715T210000
DTEND;TZID=America/Toronto:20170715T210000
DTSTAMP:20260425T072505
CREATED:20170622T135604Z
LAST-MODIFIED:20170715T161242Z
UID:3099-1500152400-1500152400@barriefilmfestival.ca
SUMMARY:Beauty and the Beast - Outdoor screening
DESCRIPTION:Beauty and the Beast (2017)\nSaturday\, July 15 (NEW – due to weather)\,\nHeritage Park\, Barrie\nStarts at dusk (approx. 9-9:15pm)\, weather permitting\nRated PG – violence and some scary scenes\, 129 min. \nBelle (Emma Watson)\, a bright\, beautiful and independent young woman\, is taken prisoner by a beast (Dan Stevens) in its castle. Despite her fears\, she befriends the castle’s enchanted staff and learns to look beyond the beast’s hideous exterior\, allowing her to recognize the kind heart and soul of the true prince that hides on the inside. \n  \n\nSponsored by:
URL:https://barriefilmfestival.ca/now-playing/beauty-and-the-beast-outdoor-screening/
LOCATION:Heritage Park\, Barrie
END:VEVENT
END:VCALENDAR