BEGIN:VCALENDAR
VERSION:2.0
PRODID:-//Barrie Film Festival - ECPv5.16.3.1//NONSGML v1.0//EN
CALSCALE:GREGORIAN
METHOD:PUBLISH
X-WR-CALNAME:Barrie Film Festival
X-ORIGINAL-URL:https://barriefilmfestival.ca
X-WR-CALDESC:Events for Barrie Film Festival
BEGIN:VTIMEZONE
TZID:America/Toronto
BEGIN:DAYLIGHT
TZOFFSETFROM:-0500
TZOFFSETTO:-0400
TZNAME:EDT
DTSTART:20240310T070000
END:DAYLIGHT
BEGIN:STANDARD
TZOFFSETFROM:-0400
TZOFFSETTO:-0500
TZNAME:EST
DTSTART:20241103T060000
END:STANDARD
END:VTIMEZONE
BEGIN:VEVENT
DTSTART;TZID=America/Toronto:20240626T212000
DTEND;TZID=America/Toronto:20240626T212000
DTSTAMP:20260425T112721
CREATED:20240605T211623Z
LAST-MODIFIED:20240624T160731Z
UID:11224-1719436800-1719436800@barriefilmfestival.ca
SUMMARY:BEFORE THE SUN - Outdoor Screening
DESCRIPTION:Lawn Chair Luminata | Celebrating National Indigenous History Month | Outdoor screening \nAITAMAAKO’TAMISSKAPI NATOSI: BEFORE THE SUN\nWednesday\, June 26\, 2024\nMeridian Place\, Downtown Barrie\nAdmission: Free\nStarts at dusk\, weather permitting (rain date June 27) \n  \n88 min. | Documentary | English and Blackfoot | Canada | 2023 \nDirected by: Banchi Hanuse \n  \nSynopsis: \nAn intimate and thrilling portrait of a young Siksika woman Logan Red Crow\, and the deep bonds between her father and family in the golden plains of Blackfoot Territory as she prepares for one of the most dangerous horse races in the world… the Indian Relay. A sport for the truly brave\, the Relay’s bareback riders vault from horse to horse in short\, exhilarating races. Gentle and reflective\, yet unshakeable in her determination\, Logan is a champion in the making. Besides her skill and sheer grit\, she has a loving family\, an elite group of horses\, and a home on her ancestral lands. Those are invaluable\, but this rider will need more for victory. As we follow her through one competition after another\, we see courage put to the test\, and also get a picture of the other factors involved in the sport—including blind circumstance. \n  \nAwards: 20 wins\, 2 nominations\nWinner – Big Sky Award\, Big Sky Documentary Film Festival\, 2023\nWinner – Best Documentary Feature\, American Indian Film Festival\, 2023\nWinner – Special Jury Award for Documentary Feature\, Santa Fe International Film Festival\, 2023\nWinner – Audience Award – Northern Lights\, Vancouver International Film Festival\, 2023\nWinner – “Generation Next” Audience Choice Award\, Calgary International Film Festival\, 2023\nWinner – Best Canadian Documentary – Audience Choice Award and Best Canadian Feature Film – Made in the North Awards\, Available Light Film Festival\, 2024\nWinner – Best Canadian Documentary Feature\, Yellowknife International Film Festival\, 2023\nWinner – Best Documentary Feature (shared with: Common Ground)\, Red Nation International Film Festival\, 2023\nWinner – Kumeyaay Eagle Award\, San Diego International Film Festival\, 2023\nWinner – Best Feature\, Shining Mountains Film Festival\, 2023\nWinner – 4 awards: Best Screenwriting; Best Cinematography; Best Editing; Best Sound\, Leo Awards\, 2023\nWinner – 3 awards: Audience Choice Award; Indigenous Spirit Award; New Voices Award\, Gimli Film Festival\, 2023\nWinner – Cinema Indigenized Outstanding Talent Award\, Cinéfest Sudbury International Film Festival\, 2023\nSpecial Mention – “Special Mention for capturing the Soul of Cinema”\, Port Townsend Film Festival\, 2023\nHonourable Mention – Audience Favourite\, Salt Spring Film Festival\nNominated – Best Cinematography in a Feature Length Documentary\, Canadian Screen Awards\, 2024 \n  \n \n  \n\nArrive early for the PRE-SHOW – Enjoy music and storytelling through song by regional Indigenous musicians as well as a community campfire / marshmallows from 7:00-9:00 pm. \n\n  \nScreened as part of National Indigenous History Month hosted by the City of Barrie and the Downtown BIA in partnership with the Barrie Film Festival.\n  \nFor list of events and programming partners throughout June\, CLICK HERE\n  \n                         \n  \n \n  \n  \nSupported by \n  \n \n  \n  \n 
URL:https://barriefilmfestival.ca/now-playing/before-the-sun-outdoor-screening/
LOCATION:Meridian Place\, 30 Simcoe Street\, Barrie\, ON\, L4M 1A7\, Canada
END:VEVENT
END:VCALENDAR