BEGIN:VCALENDAR
VERSION:2.0
PRODID:-//Barrie Film Festival - ECPv5.16.3.1//NONSGML v1.0//EN
CALSCALE:GREGORIAN
METHOD:PUBLISH
X-WR-CALNAME:Barrie Film Festival
X-ORIGINAL-URL:https://barriefilmfestival.ca
X-WR-CALDESC:Events for Barrie Film Festival
BEGIN:VTIMEZONE
TZID:America/Toronto
BEGIN:DAYLIGHT
TZOFFSETFROM:-0500
TZOFFSETTO:-0400
TZNAME:EDT
DTSTART:20210314T070000
END:DAYLIGHT
BEGIN:STANDARD
TZOFFSETFROM:-0400
TZOFFSETTO:-0500
TZNAME:EST
DTSTART:20211107T060000
END:STANDARD
END:VTIMEZONE
BEGIN:VEVENT
DTSTART;TZID=America/Toronto:20210923T200000
DTEND;TZID=America/Toronto:20210923T223000
DTSTAMP:20260424T055155
CREATED:20210828T140852Z
LAST-MODIFIED:20210920T190142Z
UID:8611-1632427200-1632436200@barriefilmfestival.ca
SUMMARY:BEST SELLERS - Sunset Drive-In
DESCRIPTION:Festival Opener: BEST SELLERS\n \nThursday\, September 23\, 2021\nSunset Barrie Drive-In\, starts at dusk\, rain or shine\n\n\nTICKETS ARE AVAILABLE THROUGH SUNSET BARRIE\nTickets are sold by car. Adults $13\n\nBUY TICKETS\n  \nA film by Lina Roessler\nDrama/Comedy | 100 min. | Canada/USA | 2021 \nStarring: Michael Caine\, Aubrey Plaza\, Scott Speedman\, Cary Elwes\, Ellen Wong \n  \nCLICK HERE to watch the trailer\n  \nLucy Stanbridge (Aubrey Plaza) has inherited her father’s boutique publishing house\, and the ambitious would-be editor has nearly sunk it with failing YA titles and bad reviews. \nWhen she discovers the company is owed a book by Harris Shaw (Michael Caine)\, a reclusive\, cantankerous\, booze-addled author who originally put the company on the map\, she looks to him for one last stab at salvation\, both commercial and critical. \nHer timing couldn’t be more perfect. Harris owes money and he happens to have a new book – which he hates. Lucy’s ecstatic until she finds out Harris’s old contract stipulates that no one edit his work. However\, in exchange\, he must tour the book. \nAnd so is born the book tour from hell – where fame doesn’t equal fortune. \n  \n\nFor COVD-19 Protocols at Sunset Barrie CLICK HERE \nIn-person: Thursday\, September 23\, 2021\, Sunset Barrie Drive-In\nOnline: September 27-October 3\, 2021 – through our  VIRTUAL EVENTS\nThe 24th Annual Barrie Film Festival runs September 23 – October 3\, 2021 with a combination of in-person and online screenings. CLICK HERE to return to main page.
URL:https://barriefilmfestival.ca/now-playing/best-sellers-sunset-drive-in/
LOCATION:Sunset Barrie Drive-in\, 134 Line 4 South\, Oro-Medonte\, Ontario\, L0L 2L0\, Canada
END:VEVENT
END:VCALENDAR