BEGIN:VCALENDAR
VERSION:2.0
PRODID:-//Barrie Film Festival - ECPv5.16.3.1//NONSGML v1.0//EN
CALSCALE:GREGORIAN
METHOD:PUBLISH
X-WR-CALNAME:Barrie Film Festival
X-ORIGINAL-URL:https://barriefilmfestival.ca
X-WR-CALDESC:Events for Barrie Film Festival
BEGIN:VTIMEZONE
TZID:America/Toronto
BEGIN:DAYLIGHT
TZOFFSETFROM:-0500
TZOFFSETTO:-0400
TZNAME:EDT
DTSTART:20150308T070000
END:DAYLIGHT
BEGIN:STANDARD
TZOFFSETFROM:-0400
TZOFFSETTO:-0500
TZNAME:EST
DTSTART:20151101T060000
END:STANDARD
END:VTIMEZONE
BEGIN:VEVENT
DTSTART;TZID=America/Toronto:20150819T203000
DTEND;TZID=America/Toronto:20150819T203000
DTSTAMP:20260425T072404
CREATED:20150713T174601Z
LAST-MODIFIED:20150819T010201Z
UID:679-1440016200-1440016200@barriefilmfestival.ca
SUMMARY:Big Hero 6 - Outdoor Screening
DESCRIPTION:Big Hero 6\nWednesday\, August 19 (rain date August 20) – Lawn Chair Luminata\nMovie starts at dusk\, approximately 8:30pm\, weather permitting\nLocation: Centennial Beach \n2014\, Animation/Action\, Rated PG for action and peril\, 102 minutes (USA) \nCome down to Centennial Beach early to meet your Barrie Fire Fighters! They will be on site with their fire trucks at 6pm and will have many fun activities for the kids to enjoy\, plus a free BBQ! \nWith all the heart and humour audiences expect from Walt Disney Animation Studios\, Big Hero 6 is an action-packed comedy adventure that introduces Baymax\, a lovable\, personal companion robot\, who forms a special bond with robotics prodigy Hiro Hamada. When a devastating turn of events catapults them into the midst of a dangerous plot unfolding in the streets of San Fransokyo\, Hiro turns to Baymax and his diverse group of friends— adrenaline junkie Go Go Tomago\, neatnik Wasabi\, chemistry whiz Honey Lemon and fanboy Fred — who transform into a band of unlikely heroes. \n \nSponsored by Barrie Fire & Emergency Service and Barrie Firefighter Community Projects. \n 
URL:https://barriefilmfestival.ca/now-playing/big-hero-6-outdoor-screening/
LOCATION:Centennial Beach\, Lakeshore Drive\, Barrie\, Ontario\, Canada
END:VEVENT
END:VCALENDAR