BEGIN:VCALENDAR
VERSION:2.0
PRODID:-//Barrie Film Festival - ECPv5.16.3.1//NONSGML v1.0//EN
CALSCALE:GREGORIAN
METHOD:PUBLISH
X-WR-CALNAME:Barrie Film Festival
X-ORIGINAL-URL:https://barriefilmfestival.ca
X-WR-CALDESC:Events for Barrie Film Festival
BEGIN:VTIMEZONE
TZID:America/Toronto
BEGIN:DAYLIGHT
TZOFFSETFROM:-0500
TZOFFSETTO:-0400
TZNAME:EDT
DTSTART:20150308T070000
END:DAYLIGHT
BEGIN:STANDARD
TZOFFSETFROM:-0400
TZOFFSETTO:-0500
TZNAME:EST
DTSTART:20151101T060000
END:STANDARD
END:VTIMEZONE
BEGIN:VEVENT
DTSTART;TZID=America/Toronto:20150416T160000
DTEND;TZID=America/Toronto:20150416T160000
DTSTAMP:20260425T072337
CREATED:20150324T232848Z
LAST-MODIFIED:20150324T232848Z
UID:409-1429200000-1429200000@barriefilmfestival.ca
SUMMARY:Boychoir - 4PM
DESCRIPTION:Director: François Girard\nCast: Dustin Hoffman\, Kathy Bates\, Josh Lucas\, Eddie Izzard and Debra Winger\nDrama\, PG\, 106 minutes (USA) \nTickets: Adult $10\, Senior/Student $8 \nFrom acclaimed Canadian director François Girard (Thirty Two Short Films About Glenn Gould\, The Red Violin) comes a drama that the entire family can enjoy: the story of a gifted eleven-year-old boy who must struggle against the odds to find his voice. Stet (newcomer Garrett Wareing) is an angry youngster who can sing like an angel. Orphaned after his mother is killed in a car accident\, he ends up boarding at a choir school on the US East Coast — a place about as different from his small Texas town as can be. Feeling misunderstood\, out of place\, and frustrated with the cards life has dealt him\, Stet finds himself at odds with Choirmaster Carvelle (Dustin Hoffman)\, a disciplinarian of the old school. But he recognizes something special in Stet’s voice\, and pushes the boy to put his troubled young soul into the music. Boychoir will have audiences swooning as the film is about the way that music can touch our lives — if only it’s given enough encouragement to come out and play. \n“In a country where musical talent is so often confused with sex appeal\, Boychoir offers a welcome alternative\, celebrating discipline\, talent and the sound of untainted innocence.” – Peter Debruge\, Variety \n  \n\n 
URL:https://barriefilmfestival.ca/now-playing/boychoir-4pm/
LOCATION:Uptown Theatre\, 55 Dunlop St. W.\, Barrie\, Ontario\, L4N 1A3\, Canada
END:VEVENT
END:VCALENDAR