BEGIN:VCALENDAR
VERSION:2.0
PRODID:-//Barrie Film Festival - ECPv5.16.3.1//NONSGML v1.0//EN
CALSCALE:GREGORIAN
METHOD:PUBLISH
X-WR-CALNAME:Barrie Film Festival
X-ORIGINAL-URL:https://barriefilmfestival.ca
X-WR-CALDESC:Events for Barrie Film Festival
BEGIN:VTIMEZONE
TZID:America/Toronto
BEGIN:DAYLIGHT
TZOFFSETFROM:-0500
TZOFFSETTO:-0400
TZNAME:EDT
DTSTART:20150308T070000
END:DAYLIGHT
BEGIN:STANDARD
TZOFFSETFROM:-0400
TZOFFSETTO:-0500
TZNAME:EST
DTSTART:20151101T060000
END:STANDARD
END:VTIMEZONE
BEGIN:VEVENT
DTSTART;TZID=America/Toronto:20151018T190000
DTEND;TZID=America/Toronto:20151018T204000
DTSTAMP:20260420T080402
CREATED:20151016T015042Z
LAST-MODIFIED:20151016T030457Z
UID:1086-1445194800-1445200800@barriefilmfestival.ca
SUMMARY:CHEVALIER - 7PM
DESCRIPTION:Chevalier\nScreening:\nSunday\, October 18\, 7:00 pm\,\nUptown Theatre\, Screen 1 \nDirected by Athina Rachel Tsangari \nGreece / 2015 / Comedy/Drama / Rated 18A for mature thematics\, coarse language and male nudity / Greek with English subtitles / 99 min. \nA buddy movie with a non-traditional twist! On a luxury yacht in the middle of the Aegean Sea\, six men on a fishing trip decide to play a game. During this game\, things will be compared… things will be measured… songs will be butchered… blood will be tested. Friends will become rivals and rivals will become hungry. But at the end of the voyage – and the game – the man who wins will be the best man. And he will wear upon his little finger the victorious signet ring: the “Chevalier.” \n 
URL:https://barriefilmfestival.ca/now-playing/chevalier-7pm/
LOCATION:Uptown Theatre\, 55 Dunlop St. W.\, Barrie\, Ontario\, L4N 1A3\, Canada
END:VEVENT
END:VCALENDAR