BEGIN:VCALENDAR
VERSION:2.0
PRODID:-//Barrie Film Festival - ECPv5.16.3.1//NONSGML v1.0//EN
CALSCALE:GREGORIAN
METHOD:PUBLISH
X-WR-CALNAME:Barrie Film Festival
X-ORIGINAL-URL:https://barriefilmfestival.ca
X-WR-CALDESC:Events for Barrie Film Festival
BEGIN:VTIMEZONE
TZID:America/Toronto
BEGIN:DAYLIGHT
TZOFFSETFROM:-0500
TZOFFSETTO:-0400
TZNAME:EDT
DTSTART:20150308T070000
END:DAYLIGHT
BEGIN:STANDARD
TZOFFSETFROM:-0400
TZOFFSETTO:-0500
TZNAME:EST
DTSTART:20151101T060000
END:STANDARD
END:VTIMEZONE
BEGIN:VEVENT
DTSTART;TZID=America/Toronto:20151025T180000
DTEND;TZID=America/Toronto:20151025T195500
DTSTAMP:20260420T093058
CREATED:20151016T022931Z
LAST-MODIFIED:20151016T024227Z
UID:1102-1445796000-1445802900@barriefilmfestival.ca
SUMMARY:COURT - 6PM
DESCRIPTION:Court\nScreening:\nSunday\, October 25\, 6:00 pm\nUptown Theatre\, Screen 1 \nWritten and Directed by Chaitanya Tamhane \nIndia / 2014 / Drama / Rated G / Gujarati\, Hindi\, English and Marathi with English subtitles / 116 min. \nA sewage worker’s dead body is found inside a manhole in Mumbai and subsequently\, an aging folk singer is arrested and accused of performing an inflammatory song which may have incited the worker to commit suicide. As the trial unfolds in a lower court\, the hopes and dreams of the city’s ordinary people are played out\, and forging these fates are the lawyers and judge\, who are observed in their personal lives beyond the theatre of the courtroom. \nWatch the trailer here!
URL:https://barriefilmfestival.ca/now-playing/court-6pm/
LOCATION:Uptown Theatre\, 55 Dunlop St. W.\, Barrie\, Ontario\, L4N 1A3\, Canada
END:VEVENT
END:VCALENDAR