BEGIN:VCALENDAR
VERSION:2.0
PRODID:-//Barrie Film Festival - ECPv5.16.3.1//NONSGML v1.0//EN
CALSCALE:GREGORIAN
METHOD:PUBLISH
X-WR-CALNAME:Barrie Film Festival
X-ORIGINAL-URL:https://barriefilmfestival.ca
X-WR-CALDESC:Events for Barrie Film Festival
BEGIN:VTIMEZONE
TZID:America/Toronto
BEGIN:DAYLIGHT
TZOFFSETFROM:-0500
TZOFFSETTO:-0400
TZNAME:EDT
DTSTART:20150308T070000
END:DAYLIGHT
BEGIN:STANDARD
TZOFFSETFROM:-0400
TZOFFSETTO:-0500
TZNAME:EST
DTSTART:20151101T060000
END:STANDARD
END:VTIMEZONE
BEGIN:VEVENT
DTSTART;TZID=America/Toronto:20151024T130000
DTEND;TZID=America/Toronto:20151024T142500
DTSTAMP:20260422T175615
CREATED:20151016T021753Z
LAST-MODIFIED:20151016T023612Z
UID:1098-1445691600-1445696700@barriefilmfestival.ca
SUMMARY:FRANCOFONIA - 1PM
DESCRIPTION:Francofonia\nScreening:\nSaturday\, October 24\, 1:00 pm\nUptown Theatre\, Screen 1 \nWritten and Directed by Alexander Sokurov / France/Germany/Netherlands / 2015 / Drama / Rated PG / French\, German\, Russian with English subtitles / 87 min. \nJune 1940: as German troops marched into Paris\, Jacques Jaujard and Count Franziskus Wolff Metternich worked together to protect and preserve the treasures of the Louvre Museum. At the very heart of one of the most devastating conflicts the world has ever known\, Russian master filmmaker Alexander Sokurov (Russian Ark) dramatizes their story\, asking what art tells us about ourselves as he explores the relationship between art\, culture and power. This film had its North American Premiere at TIFF 2015. \nWatch the trailer here!
URL:https://barriefilmfestival.ca/now-playing/francofonia-1pm/
LOCATION:Uptown Theatre\, 55 Dunlop St. W.\, Barrie\, Ontario\, L4N 1A3\, Canada
END:VEVENT
END:VCALENDAR