BEGIN:VCALENDAR
VERSION:2.0
PRODID:-//Barrie Film Festival - ECPv5.16.3.1//NONSGML v1.0//EN
CALSCALE:GREGORIAN
METHOD:PUBLISH
X-WR-CALNAME:Barrie Film Festival
X-ORIGINAL-URL:https://barriefilmfestival.ca
X-WR-CALDESC:Events for Barrie Film Festival
BEGIN:VTIMEZONE
TZID:America/Toronto
BEGIN:DAYLIGHT
TZOFFSETFROM:-0500
TZOFFSETTO:-0400
TZNAME:EDT
DTSTART:20170312T070000
END:DAYLIGHT
BEGIN:STANDARD
TZOFFSETFROM:-0400
TZOFFSETTO:-0500
TZNAME:EST
DTSTART:20171105T060000
END:STANDARD
END:VTIMEZONE
BEGIN:VEVENT
DTSTART;TZID=America/Toronto:20170803T160000
DTEND;TZID=America/Toronto:20170803T160000
DTSTAMP:20260420T225438
CREATED:20170728T210846Z
LAST-MODIFIED:20170728T210846Z
UID:3185-1501776000-1501776000@barriefilmfestival.ca
SUMMARY:Frantz - 4PM
DESCRIPTION:Frantz\n\nScreening: August 3\, 2017 – 4pm\nLocation: Uptown Theatre\, 55 Dunlop St. W.\, Barrie\nDirected by: François Ozon\nPrinciple Cast: Paula Beer\, Pierre Niney\, Marie Gruber\, Ernst Stotzner\, Johann Von Bulow\, Anton Von Lucke\nDrama\, PG for mature thematic elements including brief war violence\, 114 minutes\, filmed in glorious black & white\, Language: French\, German with English subtitles (France/Germany) \n  \n[btnsx id=”3154″] \n  \n“A fine bilingual cast\, haunting period detail and a provocative approach to a twisting story carry the day.”\n– Kate Taylor\, Globe and Mail  \n“A richly imagined and superbly assembled period piece. ”\n– Boyd Van Hoeij\, The Hollywood Reporter \n“It’s a rare beauty\, this odd-duck of a period piece from the great French director François Ozon”\n– Peter Travers\, Rolling Stone \n  \n  \nIn the aftermath of World War I\, a young German woman mourning the death of her fiancé forms a bond with a mysterious Frenchman visiting her beloved’s grave. Telling a familiar tale of love\, remembrance\, grief\, and mourning in new and surprising ways\, Frantz is a brilliant addition to the filmography of François Ozon. The war has just ended and Anna (Paula Beer) is still living with Frantz’s parents\, who are shattered over their son’s death. Meanwhile\, the citizens of Anna’s small German town are just beginning to emerge from the shadow of the war. Spying a stranger laying a bouquet of roses on Frantz’s grave one day\, the quietly grieving Anna is both surprised and intrigued. Hesitantly\, the visitor reveals he is a French soldier\, but with the horrors of the war still so raw in everyone’s minds\, the small community makes it clear he’s not welcome among them. Adrien (Pierre Niney) soon reveals he knew Frantz prior to the war\, as the two became fast friends over their shared love of art and music. Anna and Frantz’s parents eventually warm to the sensitive Frenchman\, grateful for the chance to relive a connection to Frantz. But despite Adrien’s initial charms\, his past slowly reveals itself to be more mysterious and murky than it seems. \n  \nAwards: \nWon\, Best Cinematography\, César Awards\, France\, 2017\nNominated\, Best Director\, Best Film\, Actor (Pierre Niney)\, Most Promising Actress (Paula Beer)\, Best Adapted Screenplay\, Original Music\, Sound\, Editing\, Costume Design\, Production Design\, César Awards\, France\, 2017\nWon\, Best Foreign Feature Film\, Sedona International Film Festival\, 2017\nWon\, Marcello Mastroianni Award for Best Young Actress (Paula Beer)\, Venice Film Festival\, 2016\nNominated\, Best Screenplay\, Best Female Newcomer\, Cinematography\, Music\, Lumiere Awards\, France\, 2017\nSpotlight Selection\, Sundance Film Festival\, 2017\nBest of Fest Selection\, Palm Springs International Film Festival\, 2017 \n  \n\n  \n\n  \nSponsored By:
URL:https://barriefilmfestival.ca/now-playing/frantz-4pm-2/
LOCATION:Uptown Theatre\, 55 Dunlop St. W.\, Barrie\, Ontario\, L4N 1A3\, Canada
END:VEVENT
END:VCALENDAR