BEGIN:VCALENDAR
VERSION:2.0
PRODID:-//Barrie Film Festival - ECPv5.16.3.1//NONSGML v1.0//EN
CALSCALE:GREGORIAN
METHOD:PUBLISH
X-WR-CALNAME:Barrie Film Festival
X-ORIGINAL-URL:https://barriefilmfestival.ca
X-WR-CALDESC:Events for Barrie Film Festival
BEGIN:VTIMEZONE
TZID:America/Toronto
BEGIN:DAYLIGHT
TZOFFSETFROM:-0500
TZOFFSETTO:-0400
TZNAME:EDT
DTSTART:20150308T070000
END:DAYLIGHT
BEGIN:STANDARD
TZOFFSETFROM:-0400
TZOFFSETTO:-0500
TZNAME:EST
DTSTART:20151101T060000
END:STANDARD
END:VTIMEZONE
BEGIN:VEVENT
DTSTART;TZID=America/Toronto:20151018T153000
DTEND;TZID=America/Toronto:20151018T172000
DTSTAMP:20260420T080524
CREATED:20151016T014305Z
LAST-MODIFIED:20151016T030418Z
UID:1083-1445182200-1445188800@barriefilmfestival.ca
SUMMARY:HOW TO CHANGE THE WORLD - 3:30PM
DESCRIPTION:How To Change The World\nScreening:\nSunday\, October 18\, 3:30 pm\,\nUptown Theatre\, Screen 1 \nWritten and Directed by Jerry Rothwell \nCanada/USA / 2015 / Documentary/Adventure / Rated PG for language\, restrained portrayals of limited violence and disturbing scenes / 109 min. \nIn 1971\, a group of friends sailed into a nuclear test zone and their protest captured the world’s imagination. Using archival film footage that brings their extraordinary and historic exploits to life\, How To Change The World tells the story of the idealistic pioneers who founded Greenpeace and in the process\, defined the modern environmental movement. \n 
URL:https://barriefilmfestival.ca/now-playing/how-to-change-the-world/
LOCATION:Uptown Theatre\, 55 Dunlop St. W.\, Barrie\, Ontario\, L4N 1A3\, Canada
END:VEVENT
END:VCALENDAR