BEGIN:VCALENDAR
VERSION:2.0
PRODID:-//Barrie Film Festival - ECPv5.16.3.1//NONSGML v1.0//EN
CALSCALE:GREGORIAN
METHOD:PUBLISH
X-WR-CALNAME:Barrie Film Festival
X-ORIGINAL-URL:https://barriefilmfestival.ca
X-WR-CALDESC:Events for Barrie Film Festival
BEGIN:VTIMEZONE
TZID:America/Toronto
BEGIN:DAYLIGHT
TZOFFSETFROM:-0500
TZOFFSETTO:-0400
TZNAME:EDT
DTSTART:20150308T070000
END:DAYLIGHT
BEGIN:STANDARD
TZOFFSETFROM:-0400
TZOFFSETTO:-0500
TZNAME:EST
DTSTART:20151101T060000
END:STANDARD
END:VTIMEZONE
BEGIN:VEVENT
DTSTART;TZID=America/Toronto:20150507T160000
DTEND;TZID=America/Toronto:20150507T160000
DTSTAMP:20260423T014924
CREATED:20150324T234435Z
LAST-MODIFIED:20150324T234435Z
UID:416-1431014400-1431014400@barriefilmfestival.ca
SUMMARY:Leviathan - 4PM
DESCRIPTION:Written and Directed by: Andrey Zvyagintsev\nCast: Alexey Serebryakov\, Elena Lyadova\, Vladimir Vdovitchenkov\, Roman Madyanov\, Anna Ukolova\, Alexey Rozin\, Sergey Pokhadaev\nDrama\, 14A or language and some sexuality/graphic nudity\, 141 minutes\, Russian with English Subtitles (Russia) \nTickets: Adult $10\, Senior/Student $8 \nAcclaimed Russian director Andrey Zvyagintsev (The Return) won the Best Screenplay prize at Cannes and Golden Globe for this painterly\, primordial tale about a proud patriarch fighting to protect his family home from a corrupt local official. Set in the remote Russian northwest\, this is the tragic tale of one man’s struggle against a corrupt system of power. Kolya (Alexey Serebryakov)\, a part-time mechanic\, lives on a rocky shore with his wife and son in a house he built himself. When a local mayor attempts to seize the property through a compulsory purchase order he calls in a lawyer friend from Moscow to help fight his case. But the wheels of justice soon prove to be slow\, heavy and quite possibly deadly… \n  \n“From its chamber-piece delicacy and bureaucratic detail to a grandeur and implacable pessimism that seem as ancient as the land itself\, “Leviathan” is a distinctly Russian tragedy.” – Ann Hornaday\, Washington Post \n“One of the outstanding films of 2014\, Leviathan lives up to its title: it’s a behemoth of intelligent contemporary cinema.” – Jonathan Romney\, Film Comment Magazine \n 
URL:https://barriefilmfestival.ca/now-playing/leviathan-4pm-2/
LOCATION:Uptown Theatre\, 55 Dunlop St. W.\, Barrie\, Ontario\, L4N 1A3\, Canada
END:VEVENT
END:VCALENDAR