BEGIN:VCALENDAR
VERSION:2.0
PRODID:-//Barrie Film Festival - ECPv5.16.3.1//NONSGML v1.0//EN
CALSCALE:GREGORIAN
METHOD:PUBLISH
X-WR-CALNAME:Barrie Film Festival
X-ORIGINAL-URL:https://barriefilmfestival.ca
X-WR-CALDESC:Events for Barrie Film Festival
BEGIN:VTIMEZONE
TZID:America/Toronto
BEGIN:DAYLIGHT
TZOFFSETFROM:-0500
TZOFFSETTO:-0400
TZNAME:EDT
DTSTART:20240310T070000
END:DAYLIGHT
BEGIN:STANDARD
TZOFFSETFROM:-0400
TZOFFSETTO:-0500
TZNAME:EST
DTSTART:20241103T060000
END:STANDARD
END:VTIMEZONE
BEGIN:VEVENT
DTSTART;TZID=America/Toronto:20240417T190000
DTEND;TZID=America/Toronto:20240417T190000
DTSTAMP:20260425T072419
CREATED:20240329T130437Z
LAST-MODIFIED:20240416T162543Z
UID:11151-1713380400-1713380400@barriefilmfestival.ca
SUMMARY:NCFD - STARBUCK - Galaxy Cinemas
DESCRIPTION:Enjoy a FREE screening of STARBUCK at Galaxy Cinemas as part of National Canadian Film Day\, presented by Reel Canada\nWednesday\, April 17\, 2024 from 7:00 PM\nLocation: Galaxy Cinemas\, 72 Commerce Park Drive\, Barrie\nAdmission: FREE; reserve your tickets through eventbrite \nThis screening is SOLD OUT\n  \n \nABOUT THE FILM: \nStarbuck\nCanada | 2011 | 109 min. | 14A \nDirected by: Ken Scott\nStarring: Patrick Huard\, Julie LeBreton\, Antoine Bertrand\nLanguage: French with English subtitles\nComedy/Drama \n  \nSynopsis:\nAs his girlfriend announces her pregnancy\, David Wozniak (Patrick Huard)\, a forty-something slacker\, receives other life-changing news: 142 people\, all of them the result of artificial insemination from sperm he donated 21 years earlier\, have filed a class action lawsuit against the mysterious “Starbuck\,” their biological father. \nDavid’s life is fast falling apart — he’s in trouble with local thugs and owes a lot of money – but his unwitting support network of children\, none of whom know who David really is\, give him hope to carry on as he visits them in their daily lives. \nFull of heart and with tons of laughs\, this French Canadian contemporary classic was remade two years later in America under the title of Delivery Man — but with its blockbusting original release\, we’d argue you shouldn’t mess with perfect! \n  \nAwards: 12 Wins\, 16 Nominations \n\n  \n \nABOUT NATIONAL CANADIAN FILM DAY \nPresented by REEL CANADA in Partnership with the Barrie Film Festival \nREEL CANADA is excited to announce this year’s edition of National Canadian Film Day \n(CanFilmDay)\, which has taken root as our largest annual celebration of Canadian culture. Launched in 2014\, CanFilmDay has given hundreds of thousands of Canadians an opportunity to gather together to celebrate our stories and the incredible achievements of our filmmakers. Every year\, screenings take place on every conceivable platform and at every conceivable venue. This year\, CanFilmDay will take place on Wed\, April 17th\, 2024\, when Canadians everywhere will be watching a great Canadian film. \n  \n*Two Free tickets max per ticket holder please. \n  \nPresented by: \n \n 
URL:https://barriefilmfestival.ca/now-playing/ncfd-starbuck-galaxy-cinemas/
LOCATION:Galaxy Cinemas Barrie\, 72 Commerce Park Dr\, Barrie\, ON L4N 8W8\, 72 Commerce Park Drive\, Barrie\, Ontario\, L4N 8W8\, Canada
END:VEVENT
END:VCALENDAR