BEGIN:VCALENDAR
VERSION:2.0
PRODID:-//Barrie Film Festival - ECPv5.16.3.1//NONSGML v1.0//EN
CALSCALE:GREGORIAN
METHOD:PUBLISH
X-WR-CALNAME:Barrie Film Festival
X-ORIGINAL-URL:https://barriefilmfestival.ca
X-WR-CALDESC:Events for Barrie Film Festival
BEGIN:VTIMEZONE
TZID:America/Toronto
BEGIN:DAYLIGHT
TZOFFSETFROM:-0500
TZOFFSETTO:-0400
TZNAME:EDT
DTSTART:20150308T070000
END:DAYLIGHT
BEGIN:STANDARD
TZOFFSETFROM:-0400
TZOFFSETTO:-0500
TZNAME:EST
DTSTART:20151101T060000
END:STANDARD
END:VTIMEZONE
BEGIN:VEVENT
DTSTART;TZID=America/Toronto:20150715T210000
DTEND;TZID=America/Toronto:20150715T210000
DTSTAMP:20260420T134516
CREATED:20150616T231120Z
LAST-MODIFIED:20150713T180206Z
UID:620-1436994000-1436994000@barriefilmfestival.ca
SUMMARY:Paddington - Outdoor Screening
DESCRIPTION:Paddington\nWednesday\, July 15 (rain date July 16) – Lawn Chair Luminata\nTime: dusk\nLocation: Heritage park \nWritten and Directed by:  Paul King\nCast: Ben Whishaw\, Hugh Bonneville\, Sally Hawkins and Nicole Kidman\n2014\, Family/Comedy\, G for mild action and some rude humour\, 95 minutes (U.K./France) \nSynopsis: From the beloved novels by Michael Bond and producer David Heyman (HARRY POTTER)\, PADDINGTON tells the story of the comic misadventures of a young Peruvian bear (voiced by Ben Whishaw) who travels to the city in search of a home. Finding himself lost and alone\, he begins to realize that city life is not all he had imagined – until he meets the kindly Brown family who read the label around his neck that says “Please look after this bear. Thank you\,” and offer him a temporary haven. It looks as though his luck has changed until this rarest of bears catches the eye of a museum taxidermist. \n \nSponsored by the Downtown Barrie Business Association (BIA) \n 
URL:https://barriefilmfestival.ca/now-playing/paddington-outdoor-screening/
LOCATION:Heritage Park\, Barrie
END:VEVENT
END:VCALENDAR