BEGIN:VCALENDAR
VERSION:2.0
PRODID:-//Barrie Film Festival - ECPv5.16.3.1//NONSGML v1.0//EN
CALSCALE:GREGORIAN
METHOD:PUBLISH
X-WR-CALNAME:Barrie Film Festival
X-ORIGINAL-URL:https://barriefilmfestival.ca
X-WR-CALDESC:Events for Barrie Film Festival
BEGIN:VTIMEZONE
TZID:America/Toronto
BEGIN:DAYLIGHT
TZOFFSETFROM:-0500
TZOFFSETTO:-0400
TZNAME:EDT
DTSTART:20150308T070000
END:DAYLIGHT
BEGIN:STANDARD
TZOFFSETFROM:-0400
TZOFFSETTO:-0500
TZNAME:EST
DTSTART:20151101T060000
END:STANDARD
END:VTIMEZONE
BEGIN:VEVENT
DTSTART;TZID=America/Toronto:20151025T150000
DTEND;TZID=America/Toronto:20151025T150000
DTSTAMP:20260422T144511
CREATED:20151016T033527Z
LAST-MODIFIED:20151018T141123Z
UID:1114-1445785200-1445785200@barriefilmfestival.ca
SUMMARY:RAIDERS OF THE LOST ARK: THE ADAPTATION - 3PM
DESCRIPTION:Here is your chance to see the original fan film “Raiders of the Lost Ark: The Adaptation”. This is the subject of documentary “Raiders!” \n  \n \nRaiders of the Lost Ark: The Adaptation\nDirected by Eric Zala\nUSA / 1989 / Adventure / Not rated / 100 min. \nFREE Screening: \nSunday\, October 25\,  3:00 pm \nUptown Theatre\, screen 1 \nFrom 1982-1989\, this shot-for-shot remake of Raiders of the Lost Ark was produced and directed by three boys from the Mississippi Gulf Coast: Chris Strompolos\, Eric Zala and Jayson Lamb.
URL:https://barriefilmfestival.ca/now-playing/raiders-of-the-lost-ark-the-adaptation-3pm/
LOCATION:Uptown Theatre\, 55 Dunlop St. W.\, Barrie\, Ontario\, L4N 1A3\, Canada
END:VEVENT
END:VCALENDAR