BEGIN:VCALENDAR
VERSION:2.0
PRODID:-//Barrie Film Festival - ECPv5.16.3.1//NONSGML v1.0//EN
CALSCALE:GREGORIAN
METHOD:PUBLISH
X-WR-CALNAME:Barrie Film Festival
X-ORIGINAL-URL:https://barriefilmfestival.ca
X-WR-CALDESC:Events for Barrie Film Festival
BEGIN:VTIMEZONE
TZID:America/Toronto
BEGIN:DAYLIGHT
TZOFFSETFROM:-0500
TZOFFSETTO:-0400
TZNAME:EDT
DTSTART:20150308T070000
END:DAYLIGHT
BEGIN:STANDARD
TZOFFSETFROM:-0400
TZOFFSETTO:-0500
TZNAME:EST
DTSTART:20151101T060000
END:STANDARD
END:VTIMEZONE
BEGIN:VEVENT
DTSTART;TZID=America/Toronto:20150827T203000
DTEND;TZID=America/Toronto:20150827T203000
DTSTAMP:20260425T074711
CREATED:20150826T224956Z
LAST-MODIFIED:20150826T225142Z
UID:787-1440707400-1440707400@barriefilmfestival.ca
SUMMARY:Guardians of the Galaxy - RAIN DATE
DESCRIPTION:Guardians of the Galaxy \nThursday\, August 27 – RESCHEDULED DUE TO RAIN\nTime: dusk\, approx. 8:30/8:45pm\nLocation: Heritage park \n2014\, Sci-Fi/Action/Comedy\, Rated PG for intense sequences of sci-fi action and for some language. Not recommended for young children\, 121 minutes (USA/UK) \nFrom Marvel\, the studio that brought you the global blockbuster franchises of Iron Man\, Thor\, Captain America and The Avengers\, comes a new team\, the Guardians of the Galaxy\, a group of intergalactic criminals forced to work together to stop a fanatical warrior from taking control of the universe. \n \nSponsored by the Downtown Barrie Business Association (BIA) \n \n 
URL:https://barriefilmfestival.ca/now-playing/rain-date-guardians-of-the-galaxy/
LOCATION:Heritage Park\, Barrie
END:VEVENT
END:VCALENDAR