BEGIN:VCALENDAR
VERSION:2.0
PRODID:-//Barrie Film Festival - ECPv5.16.3.1//NONSGML v1.0//EN
CALSCALE:GREGORIAN
METHOD:PUBLISH
X-WR-CALNAME:Barrie Film Festival
X-ORIGINAL-URL:https://barriefilmfestival.ca
X-WR-CALDESC:Events for Barrie Film Festival
BEGIN:VTIMEZONE
TZID:America/Toronto
BEGIN:DAYLIGHT
TZOFFSETFROM:-0500
TZOFFSETTO:-0400
TZNAME:EDT
DTSTART:20150308T070000
END:DAYLIGHT
BEGIN:STANDARD
TZOFFSETFROM:-0400
TZOFFSETTO:-0500
TZNAME:EST
DTSTART:20151101T060000
END:STANDARD
END:VTIMEZONE
BEGIN:VEVENT
DTSTART;TZID=America/Toronto:20151026T190000
DTEND;TZID=America/Toronto:20151026T204000
DTSTAMP:20260420T080453
CREATED:20151021T134406Z
LAST-MODIFIED:20151021T134454Z
UID:1200-1445886000-1445892000@barriefilmfestival.ca
SUMMARY:RELATIVE HAPPINESS - 7PM
DESCRIPTION:Relative Happiness – Added screening!\nScreening:\nMonday\, October 26\, 7:00 pm\,\nUptown Theatre\, Screen 1 \nCo-written and Directed by Deanne Foley \nCanada / 2015 / Romantic/Comedy / Rated 14A for sexual content and coarse language / 97 min. \nPlus–sized and 30 years old\, Lexie Ivy (Melissa Bergland) is a feisty Bed & Breakfast owner who desperately needs a date for her sister’s wedding. In small town Nova Scotia that’s no easy task\, especially when the most eligible bachelor is Joss (Aaron Poole)\, a rough-around-the-edges handyman who’s fixing her roof. When handsome and charming guest Adrian (Johnathan Sousa) arrives and seems to take an interest in her\, Lexie thinks that all her problems are solved. But she misreads the situation and is soon reeling\, left to believe that her romantic dream has slipped away… perhaps forever. After a series of hilarious mishaps and a reality check or two\, Lexie opens her heart and eyes to see that love may be a lot closer than she thought. Based on the best-selling novel by Lesley Crewe.
URL:https://barriefilmfestival.ca/now-playing/relative-happiness-7pm-2/
LOCATION:Uptown Theatre\, 55 Dunlop St. W.\, Barrie\, Ontario\, L4N 1A3\, Canada
END:VEVENT
END:VCALENDAR