BEGIN:VCALENDAR
VERSION:2.0
PRODID:-//Barrie Film Festival - ECPv5.16.3.1//NONSGML v1.0//EN
CALSCALE:GREGORIAN
METHOD:PUBLISH
X-WR-CALNAME:Barrie Film Festival
X-ORIGINAL-URL:https://barriefilmfestival.ca
X-WR-CALDESC:Events for Barrie Film Festival
BEGIN:VTIMEZONE
TZID:America/Toronto
BEGIN:DAYLIGHT
TZOFFSETFROM:-0500
TZOFFSETTO:-0400
TZNAME:EDT
DTSTART:20150308T070000
END:DAYLIGHT
BEGIN:STANDARD
TZOFFSETFROM:-0400
TZOFFSETTO:-0500
TZNAME:EST
DTSTART:20151101T060000
END:STANDARD
END:VTIMEZONE
BEGIN:VEVENT
DTSTART;TZID=America/Toronto:20151119T160000
DTEND;TZID=America/Toronto:20151119T160000
DTSTAMP:20260420T165816
CREATED:20151027T152238Z
LAST-MODIFIED:20151027T152538Z
UID:1289-1447948800-1447948800@barriefilmfestival.ca
SUMMARY:SUITE FRANCAISE - 4PM
DESCRIPTION:November Screening\n\n\n \n\n\nSuite Française\nScreening: Thursday\, November 19\, 2015 – 4pm\nTickets: Adults $10\, Senior/Senior $8\nLocation: Uptown Theatre\, 55 Dunlop Street West\, Barrie\nDirected by: Saul Dibb\nCast: Kristin Scott Thomas\, Michelle Williams\, Matthias Schoenaerts\, Sam Riley\, Ruth Wilson \nRomance/Drama\, 14A for course language\, mature thematics\, violence and some nudity\, 107 minutes\, English\, French and German with English Subtitles (UK/France/Canada/Belgium) \n“What could be all-too-familiar here is mostly fresh and engaging\, thanks to understated storytelling and a great cast.” – Liz Braun\, Toronto Star \n“Handsomely shot\, sensitively acted and\, in places\, genuinely stirring.” – Jason Best\, Movie Talk \n\n\nA story of the power of love and the tragedy of war. Based on the best-selling book by Irene Nemirovsky and set during the German occupation of France in the 1940’s\, Suite Française tells the story of Lucille Angellier as she awaits news from her husband\, a prisoner of war. As Parisian refugees pour into their small town\, soon followed by a regiment of German soldiers who take up residence in the villagers’ homes\, Lucile’s life is turned upside down – further complicated by the arrival of refined German officer\, Bruno. \n\n\nContact the following sponsoring restaurants to make your reservation and inquire about their special Barrie Film Festival Dinner & Movie Menu! \n\n\n\n\nGroovy Tuesdays Bistro \nProviding a Prix Fixe Menu\, 3 courses for $35 ea. \n705-721-0302 \n\n\nThe North Restaurant \nProviding a Prix Fixe Menu\, 3 courses for $35 ea. \n705-812-2192 \n\n\n\n\n\n\n\n\n \n\n\n \n\n\n\n\n\n\n\nEvery third Thursday of the month join us for Dinner & Movie night! This is an opportunity to enjoy a wonderful film at Uptown Theatre as well as a special menu offered by one of two amazing participating Restaurants. The two screening times – 4pm and 8pm will allow you plenty of time to enjoy a meal either after or before the show. This program will cater to two great tastes: that of a fine meal or stellar film. We recommend the delectable pairing of both dinner and movie\, but of course the option is there to just go to the restaurant or the theatre. The choice is yours. \nFilm tickets and meals are sold separately. \nFilm tickets: $10 for Adults\, $8 for Seniors/Students \nAdvance tickets are available two weeks before each screening at the MacLaren Art Centre\, located at 37 Mulcaster Street\, Barrie (during gallery hours) or the Uptown Theatre box office (in the evenings an hour before their first screening). HST is included in the ticket price.
URL:https://barriefilmfestival.ca/now-playing/suite-francaise-4pm/
LOCATION:Uptown Theatre\, 55 Dunlop St. W.\, Barrie\, Ontario\, L4N 1A3\, Canada
END:VEVENT
END:VCALENDAR