BEGIN:VCALENDAR
VERSION:2.0
PRODID:-//Barrie Film Festival - ECPv5.16.3.1//NONSGML v1.0//EN
CALSCALE:GREGORIAN
METHOD:PUBLISH
X-WR-CALNAME:Barrie Film Festival
X-ORIGINAL-URL:https://barriefilmfestival.ca
X-WR-CALDESC:Events for Barrie Film Festival
BEGIN:VTIMEZONE
TZID:America/Toronto
BEGIN:DAYLIGHT
TZOFFSETFROM:-0500
TZOFFSETTO:-0400
TZNAME:EDT
DTSTART:20150308T070000
END:DAYLIGHT
BEGIN:STANDARD
TZOFFSETFROM:-0400
TZOFFSETTO:-0500
TZNAME:EST
DTSTART:20151101T060000
END:STANDARD
END:VTIMEZONE
BEGIN:VEVENT
DTSTART;TZID=America/Toronto:20151024T173000
DTEND;TZID=America/Toronto:20151024T191000
DTSTAMP:20260422T180039
CREATED:20151016T021226Z
LAST-MODIFIED:20151016T023858Z
UID:1093-1445707800-1445713800@barriefilmfestival.ca
SUMMARY:SUNSHINE SUPERMAN - 5:30PM
DESCRIPTION:Sunshine Superman\nScreening:\nSaturday\, October 24\, 5:30 pm\nUptown Theatre\, Screen 1 \nWritten and Directed by Marah Strauch \nNorway/USA / 2014 / Documentary/Biography / Rated PG for coarse language and tobacco use / 102 min. \nA heart-racing documentary portrait of Carl Boenish\, the father of the BASE jumping movement\, whose early passion for skydiving led him to ever more spectacular – and dangerous – feats of foot-launched human flight. \nWatch the trailer here!
URL:https://barriefilmfestival.ca/now-playing/sunshine-superman-530pm/
LOCATION:Uptown Theatre\, 55 Dunlop St. W.\, Barrie\, Ontario\, L4N 1A3\, Canada
END:VEVENT
END:VCALENDAR