BEGIN:VCALENDAR
VERSION:2.0
PRODID:-//Barrie Film Festival - ECPv5.16.3.1//NONSGML v1.0//EN
CALSCALE:GREGORIAN
METHOD:PUBLISH
X-WR-CALNAME:Barrie Film Festival
X-ORIGINAL-URL:https://barriefilmfestival.ca
X-WR-CALDESC:Events for Barrie Film Festival
BEGIN:VTIMEZONE
TZID:America/Toronto
BEGIN:DAYLIGHT
TZOFFSETFROM:-0500
TZOFFSETTO:-0400
TZNAME:EDT
DTSTART:20150308T070000
END:DAYLIGHT
BEGIN:STANDARD
TZOFFSETFROM:-0400
TZOFFSETTO:-0500
TZNAME:EST
DTSTART:20151101T060000
END:STANDARD
END:VTIMEZONE
BEGIN:VEVENT
DTSTART;TZID=America/Toronto:20151022T160000
DTEND;TZID=America/Toronto:20151022T181000
DTSTAMP:20260422T062202
CREATED:20151016T024559Z
LAST-MODIFIED:20151016T024559Z
UID:1105-1445529600-1445537400@barriefilmfestival.ca
SUMMARY:TESTAMENT OF YOUTH - 4PM
DESCRIPTION:Testament of Youth\nScreening:\nThursday\, October 22\, 4:00 pm\nUptown Theatre\, Screen 1 \nDirected by James Kent\nUnited Kingdom / 2014 / Biography/Drama / Rated PG for mature material\, including gory and disturbing war-related scenes / 129 min. \nA powerful story of love and remembrance\, Testament of Youth is based on the First World War memoir by Vera Brittain\, an account which has become the classic testimony of that war from a woman’s point of view. Following the searing journey from youthful hopes and dreams to the edge of despair and back again\, it’s a film about young love\, the futility of war and how to make the most sense of the darkest times. \nWatch the trailer here!
URL:https://barriefilmfestival.ca/now-playing/testament-of-youth-4pm/
LOCATION:Uptown Theatre\, 55 Dunlop St. W.\, Barrie\, Ontario\, L4N 1A3\, Canada
END:VEVENT
END:VCALENDAR