BEGIN:VCALENDAR
VERSION:2.0
PRODID:-//Barrie Film Festival - ECPv5.16.3.1//NONSGML v1.0//EN
CALSCALE:GREGORIAN
METHOD:PUBLISH
X-WR-CALNAME:Barrie Film Festival
X-ORIGINAL-URL:https://barriefilmfestival.ca
X-WR-CALDESC:Events for Barrie Film Festival
BEGIN:VTIMEZONE
TZID:America/Toronto
BEGIN:DAYLIGHT
TZOFFSETFROM:-0500
TZOFFSETTO:-0400
TZNAME:EDT
DTSTART:20170312T070000
END:DAYLIGHT
BEGIN:STANDARD
TZOFFSETFROM:-0400
TZOFFSETTO:-0500
TZNAME:EST
DTSTART:20171105T060000
END:STANDARD
END:VTIMEZONE
BEGIN:VEVENT
DTSTART;TZID=America/Toronto:20170727T210000
DTEND;TZID=America/Toronto:20170727T210000
DTSTAMP:20260421T035038
CREATED:20170622T140404Z
LAST-MODIFIED:20170726T205953Z
UID:3104-1501189200-1501189200@barriefilmfestival.ca
SUMMARY:The Secret Life of Pets - Outdoor screening
DESCRIPTION:The Secret Life of Pets (2016)\nThursday\, July 27 (NEW – due to weather)\nHeritage Park\, Barrie\nStarts at dusk (approx. 9pm)\, weather permitting\nRated G – some scary scenes\, cartoon/animation action\, 90 min. \nMax (Louis C.K.) is a spoiled terrier who enjoys a comfortable life in a New York building until his owner adopts Duke\, a giant and unruly canine. During their walk outside\, they encounter a group of ferocious alley cats and wind up in a truck that’s bound for the pound. Luckily\, a rebellious bunny named Snowball swoops in to save the doggy duo from captivity. In exchange\, Snowball demands that Max and Duke join his gang of abandoned pets on a mission against the humans who’ve done them wrong. \n\nSponsored by:
URL:https://barriefilmfestival.ca/now-playing/the-secret-life-of-pets-outdoor-screening/
LOCATION:Heritage Park\, Barrie
END:VEVENT
END:VCALENDAR