BEGIN:VCALENDAR
VERSION:2.0
PRODID:-//Barrie Film Festival - ECPv5.16.3.1//NONSGML v1.0//EN
CALSCALE:GREGORIAN
METHOD:PUBLISH
X-WR-CALNAME:Barrie Film Festival
X-ORIGINAL-URL:https://barriefilmfestival.ca
X-WR-CALDESC:Events for Barrie Film Festival
BEGIN:VTIMEZONE
TZID:America/Toronto
BEGIN:DAYLIGHT
TZOFFSETFROM:-0500
TZOFFSETTO:-0400
TZNAME:EDT
DTSTART:20150308T070000
END:DAYLIGHT
BEGIN:STANDARD
TZOFFSETFROM:-0400
TZOFFSETTO:-0500
TZNAME:EST
DTSTART:20151101T060000
END:STANDARD
END:VTIMEZONE
BEGIN:VEVENT
DTSTART;TZID=America/Toronto:20150903T160000
DTEND;TZID=America/Toronto:20150903T160000
DTSTAMP:20260421T014014
CREATED:20150822T141333Z
LAST-MODIFIED:20150822T141333Z
UID:775-1441296000-1441296000@barriefilmfestival.ca
SUMMARY:The Water Diviner - 4PM
DESCRIPTION:The Water Diviner\n \nScreening:\nSeptember 3\, 2015 – 4pm\nLocation: Uptown Theatre\, 55 Dunlop Street West\, Barrie\nDirected by: Russell Crowe\nCast: Russell Crowe\, Olga Kurylenko\, Yilmaz Erdogan\, Cem Yilmaz\, Jai Courtney and Ryan Corr\nDrama\, 14A for war violence including some disturbing images\, 111 minutes\n(Australia/USA/Turkey) \n  \n“It’s an old-fashioned movie in the best sense\, beautifully photographed by Andrew Lesnie” – Jim Lane – Sacramento News & Review \n  \nRussell Crowe’s directorial debut\, “The Water Diviner\,” is an epic and inspiring tale of one man’s life-changing journey of discovery. Crowe plays Australian farmer Joshua Connor\, who\, in 1919\, goes in search of his three missing sons\, last known to have fought against the Turks in the bloody Battle of Gallipoli. Arriving in Istanbul\, he is thrust into a vastly different world\, where he encounters others who suffered their own losses in the conflict: Ayshe (Olga Kurylenko)\, a strikingly beautiful but guarded hotelier raising a child alone; her young\, spirited son\, Orhan (Dylan Georgiades)\, who finds a friend in Connor; and Major Hasan (Yilmaz Erdoğan)\, a Turkish officer who fought against Connor’s boys and may be this father’s only hope. With seemingly insurmountable obstacles in his path\, Connor must travel across the battle-scarred Turkish landscape to find the truth… and his own peace.
URL:https://barriefilmfestival.ca/now-playing/the-water-diviner-4pm-2/
LOCATION:Uptown Theatre\, 55 Dunlop St. W.\, Barrie\, Ontario\, L4N 1A3\, Canada
END:VEVENT
END:VCALENDAR