BEGIN:VCALENDAR
VERSION:2.0
PRODID:-//Barrie Film Festival - ECPv5.16.3.1//NONSGML v1.0//EN
CALSCALE:GREGORIAN
METHOD:PUBLISH
X-WR-CALNAME:Barrie Film Festival
X-ORIGINAL-URL:https://barriefilmfestival.ca
X-WR-CALDESC:Events for Barrie Film Festival
BEGIN:VTIMEZONE
TZID:America/Toronto
BEGIN:DAYLIGHT
TZOFFSETFROM:-0500
TZOFFSETTO:-0400
TZNAME:EDT
DTSTART:20150308T070000
END:DAYLIGHT
BEGIN:STANDARD
TZOFFSETFROM:-0400
TZOFFSETTO:-0500
TZNAME:EST
DTSTART:20151101T060000
END:STANDARD
END:VTIMEZONE
BEGIN:VEVENT
DTSTART;TZID=America/Toronto:20150620T190000
DTEND;TZID=America/Toronto:20150620T190000
DTSTAMP:20260420T063826
CREATED:20150529T221748Z
LAST-MODIFIED:20150529T221748Z
UID:574-1434826800-1434826800@barriefilmfestival.ca
SUMMARY:Trick or Treaty? - 7PM
DESCRIPTION:Trick or Treaty?\n \nScreening: Saturday\, June 20\, 2015 – 7:00 pm\nLocation: Uptown Theatre\, 55 Dunlop Street West\, Barrie\nDirected by: Alanis Obomsawin\nDocumentary\, PG\, 85 minutes\, Language: English/Cree with English Subtitles (CANADA) \n“This provocative documentary is a fitting film with which to place Obomsawin alongside the likes of Jean-Luc Godard\, Hong Sang-soo\, and recent Cannes champion Nuri Bilge Ceylan\, for Trick or Treaty? truly proves Obomsawin a master of the art form.” – Patrick Mullen\, POV Magazine \n“With typical show don’t tell style\, Alanis Obomsawin has crafted another documentary that artfully lays the issues bare (land rights\, suicide\, forgotten murders\, assimilation) that could likely apply to aboriginal peoples world-wide.” – S. James Wegg\, JWR \nThis feature documentary by acclaimed filmmaker Alanis Obomsawin (Kanehsatake: 270 Years of Resistance) profiles Indigenous leaders in their quest for justice as they seek to establish dialogue with the Canadian government. By tracing the history of their ancestors since the signing of Treaty No. 9\, these leaders aim to raise awareness about issues vital to First Nations in Canada: respect for and protection of their lands and their natural resources\, and the right to hunt and fish so that their societies can prosper. In recent years\, an awareness-raising movement has been surfacing in First Nations communities. In this powerful documentary\, those who refuse to surrender are given a chance to speak out. \n 
URL:https://barriefilmfestival.ca/now-playing/trick-or-treaty-7pm/
LOCATION:Uptown Theatre\, 55 Dunlop St. W.\, Barrie\, Ontario\, L4N 1A3\, Canada
END:VEVENT
END:VCALENDAR