BEGIN:VCALENDAR
VERSION:2.0
PRODID:-//Barrie Film Festival - ECPv5.16.3.1//NONSGML v1.0//EN
CALSCALE:GREGORIAN
METHOD:PUBLISH
X-WR-CALNAME:Barrie Film Festival
X-ORIGINAL-URL:https://barriefilmfestival.ca
X-WR-CALDESC:Events for Barrie Film Festival
BEGIN:VTIMEZONE
TZID:America/Toronto
BEGIN:DAYLIGHT
TZOFFSETFROM:-0500
TZOFFSETTO:-0400
TZNAME:EDT
DTSTART:20150308T070000
END:DAYLIGHT
BEGIN:STANDARD
TZOFFSETFROM:-0400
TZOFFSETTO:-0500
TZNAME:EST
DTSTART:20151101T060000
END:STANDARD
END:VTIMEZONE
BEGIN:VEVENT
DTSTART;TZID=America/Toronto:20151019T160000
DTEND;TZID=America/Toronto:20151019T172500
DTSTAMP:20260420T052745
CREATED:20151012T221800Z
LAST-MODIFIED:20151016T030552Z
UID:1035-1445270400-1445275500@barriefilmfestival.ca
SUMMARY:UNEXPECTED - 4PM
DESCRIPTION:Unexpected \nScreening: \nMonday\, October 19\, 4:00 pm \nUptown Theatre\, Screen 1 \n  \nCo-written and Directed by Kris Swanberg \nUSA / 2015 / Comedy/Drama / Rated 14A for mature thematics and coarse language / 85 min. \nAs spirited Chicago schoolteacher Samantha Abbott (Cobie Smulders) adjusts to an unexpected pregnancy and sudden marriage\, she finds new perspective on life through a friendship with promising high school senior Jasmine (Gail Bean)\, who is dealing with a surprise pregnancy of her own. Also starring Anders Holm and Elizabeth McGovern\, Unexpected is lovingly realized with warmth\, humour\, and a keen understanding of life’s complexities. \n 
URL:https://barriefilmfestival.ca/now-playing/unexpected-4pm/
LOCATION:Uptown Theatre\, 55 Dunlop St. W.\, Barrie\, Ontario\, L4N 1A3\, Canada
END:VEVENT
END:VCALENDAR